BEGIN:VCALENDAR
VERSION:2.0
PRODID:-//First Baptist Church of Pawtucket - ECPv6.15.13//NONSGML v1.0//EN
CALSCALE:GREGORIAN
METHOD:PUBLISH
X-WR-CALNAME:First Baptist Church of Pawtucket
X-ORIGINAL-URL:https://fbcpawtucket.org
X-WR-CALDESC:Events for First Baptist Church of Pawtucket
REFRESH-INTERVAL;VALUE=DURATION:PT1H
X-Robots-Tag:noindex
X-PUBLISHED-TTL:PT1H
BEGIN:VTIMEZONE
TZID:UTC
BEGIN:STANDARD
TZOFFSETFROM:+0000
TZOFFSETTO:+0000
TZNAME:UTC
DTSTART:20250101T000000
END:STANDARD
END:VTIMEZONE
BEGIN:VEVENT
DTSTART;TZID=UTC:20260503T100000
DTEND;TZID=UTC:20260503T100000
DTSTAMP:20260424T152328
CREATED:20260414T165829Z
LAST-MODIFIED:20260414T165829Z
UID:8476-1777802400-1777802400@fbcpawtucket.org
SUMMARY:Worship & the Lord’s Supper Service
DESCRIPTION:FBC & Rev. Karen East Robinson welcomes you to our Worship Service beginning at 10:00 a.m.  Our parking lot is located at 45 Lyon Street. Come and worship the Lord!  After the opening hymn\, children & youth recess to Sunday School.  Choir rehearsal\, immediately follows worship & also Discipleship Class\, immediately follows worship.
URL:https://fbcpawtucket.org/event/worship-the-lords-supper-service/
END:VEVENT
BEGIN:VEVENT
DTSTART;TZID=UTC:20260503T110000
DTEND;TZID=UTC:20260503T110000
DTSTAMP:20260424T152328
CREATED:20260414T170718Z
LAST-MODIFIED:20260414T170718Z
UID:8493-1777806000-1777806000@fbcpawtucket.org
SUMMARY:FBC Annual Meeting
DESCRIPTION:For FBC members immediately after the worship service
URL:https://fbcpawtucket.org/event/fbc-annual-meeting-3/
END:VEVENT
BEGIN:VEVENT
DTSTART;TZID=UTC:20260505T190000
DTEND;TZID=UTC:20260505T190000
DTSTAMP:20260424T152328
CREATED:20260414T170818Z
LAST-MODIFIED:20260414T170818Z
UID:8495-1778007600-1778007600@fbcpawtucket.org
SUMMARY:Bible Study in the Parlor
DESCRIPTION:
URL:https://fbcpawtucket.org/event/bible-study-in-the-parlor-9/
END:VEVENT
BEGIN:VEVENT
DTSTART;TZID=UTC:20260510T100000
DTEND;TZID=UTC:20260510T100000
DTSTAMP:20260424T152328
CREATED:20260414T170138Z
LAST-MODIFIED:20260414T170138Z
UID:8480-1778407200-1778407200@fbcpawtucket.org
SUMMARY:Mother’s Day Worship Service
DESCRIPTION:FBC & Rev. Karen East Robinson welcomes you to our Mother’s Day Sunday worship service beginning at 10:00 a.m.  Our parking lot is located at 45 Lyon Street. Come and worship the Lord!  After the opening hymn\, children & youth recess to Sunday School.  Choir rehearsal\, immediately following worship & Discipleship Class\, immediately following worship.
URL:https://fbcpawtucket.org/event/mothers-day-worship-service-3/
END:VEVENT
BEGIN:VEVENT
DTSTART;TZID=UTC:20260512T190000
DTEND;TZID=UTC:20260512T190000
DTSTAMP:20260424T152328
CREATED:20260414T170844Z
LAST-MODIFIED:20260414T170844Z
UID:8497-1778612400-1778612400@fbcpawtucket.org
SUMMARY:Bible Study in the Parlor
DESCRIPTION:
URL:https://fbcpawtucket.org/event/bible-study-in-the-parlor-10/
END:VEVENT
BEGIN:VEVENT
DTSTART;TZID=UTC:20260517T100000
DTEND;TZID=UTC:20260517T100000
DTSTAMP:20260424T152328
CREATED:20260414T170218Z
LAST-MODIFIED:20260414T170218Z
UID:8483-1779012000-1779012000@fbcpawtucket.org
SUMMARY:Worship Service
DESCRIPTION:FBC & Rev. Karen East Robinson welcomes you to our Sunday worship service beginning at 10:00 a.m.  Our parking lot is located at 45 Lyon Street. Come and worship the Lord!  After the opening hymn\, children & youth recess to Sunday School.  Choir rehearsal\, immediately following worship & Discipleship Class\, immediately following worship.
URL:https://fbcpawtucket.org/event/worship-service-124/
END:VEVENT
BEGIN:VEVENT
DTSTART;TZID=UTC:20260519T190000
DTEND;TZID=UTC:20260519T190000
DTSTAMP:20260424T152328
CREATED:20260414T170913Z
LAST-MODIFIED:20260414T170913Z
UID:8499-1779217200-1779217200@fbcpawtucket.org
SUMMARY:Bible Study in the Parlor
DESCRIPTION:
URL:https://fbcpawtucket.org/event/bible-study-in-the-parlor-11/
END:VEVENT
BEGIN:VEVENT
DTSTART;TZID=UTC:20260523T090000
DTEND;TZID=UTC:20260523T120000
DTSTAMP:20260424T152328
CREATED:20260414T165254Z
LAST-MODIFIED:20260414T165254Z
UID:8470-1779526800-1779537600@fbcpawtucket.org
SUMMARY:FBC Food Pantry
DESCRIPTION:FBC’s Food Pantry is held once a month\, on a Saturday\, from 9AM until Noon.  If you are coming to the Food Pantry\, practice social distancing and if you are sick\, stay home.  Please bring your own reusable bags. FBC parking and entrance located at 45 Lyon Street.
URL:https://fbcpawtucket.org/event/fbc-food-pantry-20/
END:VEVENT
BEGIN:VEVENT
DTSTART;TZID=UTC:20260524T100000
DTEND;TZID=UTC:20260524T100000
DTSTAMP:20260424T152328
CREATED:20260414T170312Z
LAST-MODIFIED:20260414T170312Z
UID:8485-1779616800-1779616800@fbcpawtucket.org
SUMMARY:Worship Service
DESCRIPTION:FBC & Rev. Karen East Robinson welcomes you to our Sunday worship service beginning at 10:00 a.m.  Our parking lot is located at 45 Lyon Street. Come and worship the Lord!  After the opening hymn\, children & youth recess to Sunday School.  Choir rehearsal\, immediately following worship & Discipleship Class\, immediately following worship.
URL:https://fbcpawtucket.org/event/worship-service-125/
END:VEVENT
BEGIN:VEVENT
DTSTART;VALUE=DATE:20260525
DTEND;VALUE=DATE:20260526
DTSTAMP:20260424T152328
CREATED:20260414T170516Z
LAST-MODIFIED:20260414T170516Z
UID:8491-1779667200-1779753599@fbcpawtucket.org
SUMMARY:Memorial Day Holiday
DESCRIPTION:
URL:https://fbcpawtucket.org/event/memorial-day-holiday-4/
END:VEVENT
BEGIN:VEVENT
DTSTART;TZID=UTC:20260526T190000
DTEND;TZID=UTC:20260526T190000
DTSTAMP:20260424T152328
CREATED:20260414T170949Z
LAST-MODIFIED:20260414T170949Z
UID:8501-1779822000-1779822000@fbcpawtucket.org
SUMMARY:Bible Study in the Parlor
DESCRIPTION:
URL:https://fbcpawtucket.org/event/bible-study-in-the-parlor-12/
END:VEVENT
BEGIN:VEVENT
DTSTART;TZID=UTC:20260531T100000
DTEND;TZID=UTC:20260531T100000
DTSTAMP:20260424T152328
CREATED:20260414T170449Z
LAST-MODIFIED:20260414T170449Z
UID:8489-1780221600-1780221600@fbcpawtucket.org
SUMMARY:Worship Service
DESCRIPTION:FBC & Rev. Karen East Robinson welcomes you to our Sunday worship service beginning at 10:00 a.m.  Our parking lot is located at 45 Lyon Street. Come and worship the Lord!  After the opening hymn\, children & youth recess to Sunday School.  Choir rehearsal\, immediately following worship & Discipleship Class\, immediately following worship.
URL:https://fbcpawtucket.org/event/worship-service-127/
END:VEVENT
END:VCALENDAR