BEGIN:VCALENDAR
VERSION:2.0
PRODID:-//First Baptist Church of Pawtucket - ECPv6.15.13//NONSGML v1.0//EN
CALSCALE:GREGORIAN
METHOD:PUBLISH
X-WR-CALNAME:First Baptist Church of Pawtucket
X-ORIGINAL-URL:https://fbcpawtucket.org
X-WR-CALDESC:Events for First Baptist Church of Pawtucket
REFRESH-INTERVAL;VALUE=DURATION:PT1H
X-Robots-Tag:noindex
X-PUBLISHED-TTL:PT1H
BEGIN:VTIMEZONE
TZID:UTC
BEGIN:STANDARD
TZOFFSETFROM:+0000
TZOFFSETTO:+0000
TZNAME:UTC
DTSTART:20250101T000000
END:STANDARD
END:VTIMEZONE
BEGIN:VEVENT
DTSTART;TZID=UTC:20260301T100000
DTEND;TZID=UTC:20260301T100000
DTSTAMP:20260424T152328
CREATED:20260204T182340Z
LAST-MODIFIED:20260204T182340Z
UID:8397-1772359200-1772359200@fbcpawtucket.org
SUMMARY:Communion Worship Service
DESCRIPTION:FBC & Rev. Karen East Robinson welcomes you to our Communion worship service beginning at 10:00 a.m.  Our parking lot is located at 45 Lyon Street. Come and worship the Lord!  After the opening hymn\, children & youth recess to Sunday School.  Choir rehearsal\, immediately following worship & Discipleship Class\, immediately following worship.
URL:https://fbcpawtucket.org/event/communion-worship-service-28/
END:VEVENT
BEGIN:VEVENT
DTSTART;TZID=UTC:20260303T190000
DTEND;TZID=UTC:20260303T190000
DTSTAMP:20260424T152328
CREATED:20260204T181837Z
LAST-MODIFIED:20260204T181837Z
UID:8387-1772564400-1772564400@fbcpawtucket.org
SUMMARY:Bible Study in Parlor-Weather Permitting
DESCRIPTION:
URL:https://fbcpawtucket.org/event/bible-study-in-parlor-weather-permitting-8/
END:VEVENT
BEGIN:VEVENT
DTSTART;TZID=UTC:20260307T230000
DTEND;TZID=UTC:20260307T230000
DTSTAMP:20260424T152328
CREATED:20260219T163229Z
LAST-MODIFIED:20260219T163229Z
UID:8427-1772924400-1772924400@fbcpawtucket.org
SUMMARY:Tonight Set Clocks Ahead 1 hour
DESCRIPTION:
URL:https://fbcpawtucket.org/event/tonight-set-clocks-ahead-1-hour/
END:VEVENT
BEGIN:VEVENT
DTSTART;TZID=UTC:20260308T100000
DTEND;TZID=UTC:20260308T100000
DTSTAMP:20260424T152328
CREATED:20260204T182153Z
LAST-MODIFIED:20260204T182153Z
UID:8395-1772964000-1772964000@fbcpawtucket.org
SUMMARY:Worship Service
DESCRIPTION:FBC & Rev. Karen East Robinson welcomes you to our Sunday worship service beginning at 10:00 a.m.  Our parking lot is located at 45 Lyon Street. Come and worship the Lord!  After the opening hymn\, children & youth recess to Sunday School.  Choir rehearsal\, immediately following worship & Discipleship Class\, immediately following worship.
URL:https://fbcpawtucket.org/event/worship-service-118/
END:VEVENT
BEGIN:VEVENT
DTSTART;TZID=UTC:20260310T190000
DTEND;TZID=UTC:20260310T190000
DTSTAMP:20260424T152328
CREATED:20260219T162752Z
LAST-MODIFIED:20260219T162752Z
UID:8415-1773169200-1773169200@fbcpawtucket.org
SUMMARY:Bible Study in the Parlor
DESCRIPTION:
URL:https://fbcpawtucket.org/event/bible-study-in-the-parlor/
END:VEVENT
BEGIN:VEVENT
DTSTART;TZID=UTC:20260311T183000
DTEND;TZID=UTC:20260311T183000
DTSTAMP:20260424T152328
CREATED:20260219T163137Z
LAST-MODIFIED:20260219T163137Z
UID:8425-1773253800-1773253800@fbcpawtucket.org
SUMMARY:Board of Governors meeting
DESCRIPTION:
URL:https://fbcpawtucket.org/event/board-of-governors-meeting-28/
END:VEVENT
BEGIN:VEVENT
DTSTART;TZID=UTC:20260315T100000
DTEND;TZID=UTC:20260315T100000
DTSTAMP:20260424T152328
CREATED:20260219T162418Z
LAST-MODIFIED:20260219T162418Z
UID:8409-1773568800-1773568800@fbcpawtucket.org
SUMMARY:Worship Service
DESCRIPTION:FBC & Rev. Karen East Robinson welcomes you to our Sunday worship service beginning at 10:00 a.m.  Our parking lot is located at 45 Lyon Street. Come and worship the Lord!  After the opening hymn\, children & youth recess to Sunday School.  Choir rehearsal\, immediately following worship & Discipleship Class\, immediately following worship.
URL:https://fbcpawtucket.org/event/worship-service-119/
END:VEVENT
BEGIN:VEVENT
DTSTART;TZID=UTC:20260317T190000
DTEND;TZID=UTC:20260317T190000
DTSTAMP:20260424T152328
CREATED:20260219T162819Z
LAST-MODIFIED:20260219T162819Z
UID:8417-1773774000-1773774000@fbcpawtucket.org
SUMMARY:Bible Study in the Parlor
DESCRIPTION:
URL:https://fbcpawtucket.org/event/bible-study-in-the-parlor-2/
END:VEVENT
BEGIN:VEVENT
DTSTART;TZID=UTC:20260321T090000
DTEND;TZID=UTC:20260321T120000
DTSTAMP:20260424T152328
CREATED:20260204T181413Z
LAST-MODIFIED:20260204T181413Z
UID:8377-1774083600-1774094400@fbcpawtucket.org
SUMMARY:FBC Food Pantry
DESCRIPTION:FBC’s Food Pantry is held once a month\, on a Saturday\, from 9AM until Noon.  If you are coming to the Food Pantry\, practice social distancing and if you are sick\, stay home.  Please bring your own reusable bags. FBC parking and entrance located at 45 Lyon Street.
URL:https://fbcpawtucket.org/event/fbc-food-pantry-18/
END:VEVENT
BEGIN:VEVENT
DTSTART;TZID=UTC:20260322T100000
DTEND;TZID=UTC:20260322T100000
DTSTAMP:20260424T152328
CREATED:20260219T162458Z
LAST-MODIFIED:20260219T162458Z
UID:8411-1774173600-1774173600@fbcpawtucket.org
SUMMARY:Worship Service
DESCRIPTION:FBC & Rev. Karen East Robinson welcomes you to our Sunday worship service beginning at 10:00 a.m.  Our parking lot is located at 45 Lyon Street. Come and worship the Lord!  After the opening hymn\, children & youth recess to Sunday School.  Choir rehearsal\, immediately following worship & Discipleship Class\, immediately following worship.
URL:https://fbcpawtucket.org/event/worship-service-120/
END:VEVENT
BEGIN:VEVENT
DTSTART;TZID=UTC:20260324T190000
DTEND;TZID=UTC:20260324T190000
DTSTAMP:20260424T152328
CREATED:20260219T162854Z
LAST-MODIFIED:20260219T162854Z
UID:8419-1774378800-1774378800@fbcpawtucket.org
SUMMARY:Bible Study in the Parlor
DESCRIPTION:
URL:https://fbcpawtucket.org/event/bible-study-in-the-parlor-3/
END:VEVENT
BEGIN:VEVENT
DTSTART;TZID=UTC:20260329T100000
DTEND;TZID=UTC:20260329T100000
DTSTAMP:20260424T152328
CREATED:20260219T162552Z
LAST-MODIFIED:20260219T162552Z
UID:8413-1774778400-1774778400@fbcpawtucket.org
SUMMARY:Palm Sunday Worship
DESCRIPTION:FBC & Rev. Karen East Robinson welcomes you to our Palm Sunday worship service beginning at 10:00 a.m.  Our parking lot is located at 45 Lyon Street. Come and worship the Lord!  After the opening hymn\, children & youth recess to Sunday School.  Choir rehearsal\, immediately following worship & Discipleship Class\, immediately following worship.
URL:https://fbcpawtucket.org/event/palm-sunday-worship/
END:VEVENT
BEGIN:VEVENT
DTSTART;TZID=UTC:20260331T190000
DTEND;TZID=UTC:20260331T190000
DTSTAMP:20260424T152328
CREATED:20260219T162921Z
LAST-MODIFIED:20260219T162921Z
UID:8421-1774983600-1774983600@fbcpawtucket.org
SUMMARY:Bible Study in the Parlor
DESCRIPTION:
URL:https://fbcpawtucket.org/event/bible-study-in-the-parlor-4/
END:VEVENT
END:VCALENDAR