BEGIN:VCALENDAR
VERSION:2.0
PRODID:-//First Baptist Church of Pawtucket - ECPv6.15.13//NONSGML v1.0//EN
CALSCALE:GREGORIAN
METHOD:PUBLISH
X-ORIGINAL-URL:https://fbcpawtucket.org
X-WR-CALDESC:Events for First Baptist Church of Pawtucket
REFRESH-INTERVAL;VALUE=DURATION:PT1H
X-Robots-Tag:noindex
X-PUBLISHED-TTL:PT1H
BEGIN:VTIMEZONE
TZID:UTC
BEGIN:STANDARD
TZOFFSETFROM:+0000
TZOFFSETTO:+0000
TZNAME:UTC
DTSTART:20250101T000000
END:STANDARD
END:VTIMEZONE
BEGIN:VEVENT
DTSTART;TZID=UTC:20260201T100000
DTEND;TZID=UTC:20260201T100000
DTSTAMP:20260424T165953
CREATED:20251217T181242Z
LAST-MODIFIED:20251217T181242Z
UID:8321-1769940000-1769940000@fbcpawtucket.org
SUMMARY:Communion Worship Service
DESCRIPTION:FBC & Rev. Karen East Robinson welcomes you to our Communion worship service beginning at 10:00 a.m.  Our parking lot is located at 45 Lyon Street. Come and worship the Lord!  After the opening hymn\, children & youth recess to Sunday School.  Choir rehearsal\, immediately following worship & Discipleship Class\, immediately following worship.
URL:https://fbcpawtucket.org/event/communion-worship-service-27/
END:VEVENT
BEGIN:VEVENT
DTSTART;TZID=UTC:20260203T190000
DTEND;TZID=UTC:20260203T190000
DTSTAMP:20260424T165953
CREATED:20260204T181635Z
LAST-MODIFIED:20260204T181635Z
UID:8379-1770145200-1770145200@fbcpawtucket.org
SUMMARY:Bible Study in Parlor-Weather Permitting
DESCRIPTION:
URL:https://fbcpawtucket.org/event/bible-study-in-parlor-weather-permitting-4/
END:VEVENT
BEGIN:VEVENT
DTSTART;TZID=UTC:20260208T100000
DTEND;TZID=UTC:20260208T110000
DTSTAMP:20260424T165953
CREATED:20260204T181938Z
LAST-MODIFIED:20260204T181938Z
UID:8389-1770544800-1770548400@fbcpawtucket.org
SUMMARY:Worship Service
DESCRIPTION:FBC & Rev. Karen East Robinson welcomes you to our Sunday worship service beginning at 10:00 a.m.  Our parking lot is located at 45 Lyon Street. Come and worship the Lord!  After the opening hymn\, children & youth recess to Sunday School.  Choir rehearsal\, immediately following worship & Discipleship Class\, immediately following worship.
URL:https://fbcpawtucket.org/event/worship-service-115/
END:VEVENT
BEGIN:VEVENT
DTSTART;TZID=UTC:20260210T190000
DTEND;TZID=UTC:20260210T190000
DTSTAMP:20260424T165953
CREATED:20260204T181705Z
LAST-MODIFIED:20260204T181705Z
UID:8381-1770750000-1770750000@fbcpawtucket.org
SUMMARY:Bible Study in Parlor-Weather Permitting
DESCRIPTION:
URL:https://fbcpawtucket.org/event/bible-study-in-parlor-weather-permitting-5/
END:VEVENT
BEGIN:VEVENT
DTSTART;TZID=UTC:20260215T100000
DTEND;TZID=UTC:20260215T100000
DTSTAMP:20260424T165953
CREATED:20260204T182022Z
LAST-MODIFIED:20260204T182022Z
UID:8391-1771149600-1771149600@fbcpawtucket.org
SUMMARY:Worship Service
DESCRIPTION:FBC & Rev. Karen East Robinson welcomes you to our Sunday worship service beginning at 10:00 a.m.  Our parking lot is located at 45 Lyon Street. Come and worship the Lord!  After the opening hymn\, children & youth recess to Sunday School.  Choir rehearsal\, immediately following worship & Discipleship Class\, immediately following worship.
URL:https://fbcpawtucket.org/event/worship-service-116/
END:VEVENT
BEGIN:VEVENT
DTSTART;TZID=UTC:20260217T190000
DTEND;TZID=UTC:20260217T190000
DTSTAMP:20260424T165953
CREATED:20260204T181736Z
LAST-MODIFIED:20260204T181736Z
UID:8383-1771354800-1771354800@fbcpawtucket.org
SUMMARY:Bible Study in Parlor-Weather Permitting
DESCRIPTION:
URL:https://fbcpawtucket.org/event/bible-study-in-parlor-weather-permitting-6/
END:VEVENT
BEGIN:VEVENT
DTSTART;VALUE=DATE:20260218
DTEND;VALUE=DATE:20260219
DTSTAMP:20260424T165953
CREATED:20251217T182517Z
LAST-MODIFIED:20251217T182551Z
UID:8346-1771372800-1771459199@fbcpawtucket.org
SUMMARY:Ash Wednesday-Lent Begins
DESCRIPTION:
URL:https://fbcpawtucket.org/event/ash-wednesday-lent-begins-11/
END:VEVENT
BEGIN:VEVENT
DTSTART;TZID=UTC:20260221T090000
DTEND;TZID=UTC:20260221T120000
DTSTAMP:20260424T165953
CREATED:20260204T181011Z
LAST-MODIFIED:20260204T181121Z
UID:8370-1771664400-1771675200@fbcpawtucket.org
SUMMARY:FBC Food Pantry
DESCRIPTION:FBC’s Food Pantry is held once a month\, on a Saturday\, from 9AM until Noon.  If you are coming to the Food Pantry\, practice social distancing and if you are sick\, stay home.  Please bring your own reusable bags. FBC parking and entrance located at 45 Lyon Street.
URL:https://fbcpawtucket.org/event/fbc-food-pantry-17/
END:VEVENT
BEGIN:VEVENT
DTSTART;TZID=UTC:20260222T100000
DTEND;TZID=UTC:20260222T100000
DTSTAMP:20260424T165953
CREATED:20260204T182110Z
LAST-MODIFIED:20260204T182110Z
UID:8393-1771754400-1771754400@fbcpawtucket.org
SUMMARY:Worship Service
DESCRIPTION:FBC & Rev. Karen East Robinson welcomes you to our Sunday worship service beginning at 10:00 a.m.  Our parking lot is located at 45 Lyon Street. Come and worship the Lord!  After the opening hymn\, children & youth recess to Sunday School.  Choir rehearsal\, immediately following worship & Discipleship Class\, immediately following worship.
URL:https://fbcpawtucket.org/event/worship-service-117/
END:VEVENT
BEGIN:VEVENT
DTSTART;TZID=UTC:20260224T190000
DTEND;TZID=UTC:20260224T190000
DTSTAMP:20260424T165953
CREATED:20260204T181810Z
LAST-MODIFIED:20260204T181810Z
UID:8385-1771959600-1771959600@fbcpawtucket.org
SUMMARY:Bible Study in Parlor-Weather Permitting
DESCRIPTION:
URL:https://fbcpawtucket.org/event/bible-study-in-parlor-weather-permitting-7/
END:VEVENT
END:VCALENDAR