BEGIN:VCALENDAR
VERSION:2.0
PRODID:-//First Baptist Church of Pawtucket - ECPv6.15.13//NONSGML v1.0//EN
CALSCALE:GREGORIAN
METHOD:PUBLISH
X-ORIGINAL-URL:https://fbcpawtucket.org
X-WR-CALDESC:Events for First Baptist Church of Pawtucket
REFRESH-INTERVAL;VALUE=DURATION:PT1H
X-Robots-Tag:noindex
X-PUBLISHED-TTL:PT1H
BEGIN:VTIMEZONE
TZID:UTC
BEGIN:STANDARD
TZOFFSETFROM:+0000
TZOFFSETTO:+0000
TZNAME:UTC
DTSTART:20250101T000000
END:STANDARD
END:VTIMEZONE
BEGIN:VEVENT
DTSTART;VALUE=DATE:20260101
DTEND;VALUE=DATE:20260102
DTSTAMP:20260424T182517
CREATED:20251202T165518Z
LAST-MODIFIED:20251202T165518Z
UID:8311-1767225600-1767311999@fbcpawtucket.org
SUMMARY:New Year’s Day!
DESCRIPTION:
URL:https://fbcpawtucket.org/event/new-years-day-3/
END:VEVENT
BEGIN:VEVENT
DTSTART;VALUE=DATE:20260102
DTEND;VALUE=DATE:20260103
DTSTAMP:20260424T182517
CREATED:20251024T175456Z
LAST-MODIFIED:20251024T175456Z
UID:8261-1767312000-1767398399@fbcpawtucket.org
SUMMARY:FBC Office Closed
DESCRIPTION:
URL:https://fbcpawtucket.org/event/fbc-office-closed-10/
END:VEVENT
BEGIN:VEVENT
DTSTART;TZID=UTC:20260104T100000
DTEND;TZID=UTC:20260104T100000
DTSTAMP:20260424T182517
CREATED:20251217T181108Z
LAST-MODIFIED:20251217T181108Z
UID:8319-1767520800-1767520800@fbcpawtucket.org
SUMMARY:Communion Sunday Worship Service
DESCRIPTION:FBC & Rev. Karen East Robinson welcomes you to our Communion worship service beginning at 10:00 a.m.  Our parking lot is located at 45 Lyon Street. Come and worship the Lord!  After the opening hymn\, children & youth recess to Sunday School.  Choir rehearsal\, immediately following worship & Discipleship Class\, immediately following worship.
URL:https://fbcpawtucket.org/event/communion-sunday-worship-service-10/
END:VEVENT
BEGIN:VEVENT
DTSTART;TZID=UTC:20260106T190000
DTEND;TZID=UTC:20260106T190000
DTSTAMP:20260424T182517
CREATED:20251217T182103Z
LAST-MODIFIED:20251217T182146Z
UID:8335-1767726000-1767726000@fbcpawtucket.org
SUMMARY:Bible Study in Parlor-Weather Permitting
DESCRIPTION:
URL:https://fbcpawtucket.org/event/bible-study-in-parlor-9/
END:VEVENT
BEGIN:VEVENT
DTSTART;TZID=UTC:20260111T100000
DTEND;TZID=UTC:20260111T100000
DTSTAMP:20260424T182517
CREATED:20251217T181353Z
LAST-MODIFIED:20251217T181518Z
UID:8323-1768125600-1768125600@fbcpawtucket.org
SUMMARY:Worship Service
DESCRIPTION:FBC & Rev. Karen East Robinson welcomes you to our Sunday worship service beginning at 10:00 a.m.  Our parking lot is located at 45 Lyon Street. Come and worship the Lord!  After the opening hymn\, children & youth recess to Sunday School.  Choir rehearsal\, immediately following worship & Discipleship Class\, immediately following worship.
URL:https://fbcpawtucket.org/event/worship-service-114/
END:VEVENT
BEGIN:VEVENT
DTSTART;TZID=UTC:20260113T183000
DTEND;TZID=UTC:20260113T183000
DTSTAMP:20260424T182517
CREATED:20251217T181945Z
LAST-MODIFIED:20251217T181945Z
UID:8333-1768329000-1768329000@fbcpawtucket.org
SUMMARY:Christian Ed. Zoom Meeting
DESCRIPTION:
URL:https://fbcpawtucket.org/event/christian-ed-zoom-meeting-2/
END:VEVENT
BEGIN:VEVENT
DTSTART;TZID=UTC:20260113T190000
DTEND;TZID=UTC:20260113T190000
DTSTAMP:20260424T182517
CREATED:20251217T182216Z
LAST-MODIFIED:20251217T182216Z
UID:8338-1768330800-1768330800@fbcpawtucket.org
SUMMARY:Bible Study in Parlor-Weather Permitting
DESCRIPTION:
URL:https://fbcpawtucket.org/event/bible-study-in-parlor-weather-permitting/
END:VEVENT
BEGIN:VEVENT
DTSTART;TZID=UTC:20260117T090000
DTEND;TZID=UTC:20260117T120000
DTSTAMP:20260424T182517
CREATED:20251217T181705Z
LAST-MODIFIED:20251217T181705Z
UID:8329-1768640400-1768651200@fbcpawtucket.org
SUMMARY:FBC Food Pantry
DESCRIPTION:FBC’s Food Pantry is held once a month\, on a Saturday\, from 9AM until Noon.  If you are coming to the Food Pantry\, practice social distancing and if you are sick\, stay home.  Please bring your own reusable bags. FBC parking and entrance located at 45 Lyon Street.
URL:https://fbcpawtucket.org/event/fbc-food-pantry-16/
END:VEVENT
BEGIN:VEVENT
DTSTART;TZID=UTC:20260118T100000
DTEND;TZID=UTC:20260118T100000
DTSTAMP:20260424T182517
CREATED:20251217T181426Z
LAST-MODIFIED:20251217T181426Z
UID:8325-1768730400-1768730400@fbcpawtucket.org
SUMMARY:Sunday Worship Service
DESCRIPTION:FBC & Rev. Karen East Robinson welcomes you to our Sunday worship service beginning at 10:00 a.m.  Our parking lot is located at 45 Lyon Street. Come and worship the Lord!  After the opening hymn\, children & youth recess to Sunday School.  Choir rehearsal\, immediately following worship & Discipleship Class\, immediately following worship.
URL:https://fbcpawtucket.org/event/sunday-worship-service-2/
END:VEVENT
BEGIN:VEVENT
DTSTART;VALUE=DATE:20260119
DTEND;VALUE=DATE:20260120
DTSTAMP:20260424T182517
CREATED:20251217T182423Z
LAST-MODIFIED:20251217T182423Z
UID:8344-1768780800-1768867199@fbcpawtucket.org
SUMMARY:Martin Luther King Jr. Holiday
DESCRIPTION:
URL:https://fbcpawtucket.org/event/martin-luther-king-jr-holiday/
END:VEVENT
BEGIN:VEVENT
DTSTART;TZID=UTC:20260120T190000
DTEND;TZID=UTC:20260120T190000
DTSTAMP:20260424T182517
CREATED:20251217T182259Z
LAST-MODIFIED:20251217T182259Z
UID:8340-1768935600-1768935600@fbcpawtucket.org
SUMMARY:Bible Study in Parlor-Weather Permitting
DESCRIPTION:
URL:https://fbcpawtucket.org/event/bible-study-in-parlor-weather-permitting-2/
END:VEVENT
BEGIN:VEVENT
DTSTART;TZID=UTC:20260121T183000
DTEND;TZID=UTC:20260121T183000
DTSTAMP:20260424T182517
CREATED:20251217T181837Z
LAST-MODIFIED:20251223T150212Z
UID:8331-1769020200-1769020200@fbcpawtucket.org
SUMMARY:Board of Governors meeting
DESCRIPTION:Board of Governors meeting. Annual budget will be discussed and passed at this session. All church members are invited and are able to vote.
URL:https://fbcpawtucket.org/event/board-of-governors-meeting-27/
END:VEVENT
BEGIN:VEVENT
DTSTART;TZID=UTC:20260125T100000
DTEND;TZID=UTC:20260125T100000
DTSTAMP:20260424T182517
CREATED:20251217T181557Z
LAST-MODIFIED:20251217T181557Z
UID:8327-1769335200-1769335200@fbcpawtucket.org
SUMMARY:Sunday Worship Service
DESCRIPTION:FBC & Rev. Karen East Robinson welcomes you to our Sunday worship service beginning at 10:00 a.m.  Our parking lot is located at 45 Lyon Street. Come and worship the Lord!  After the opening hymn\, children & youth recess to Sunday School.  Choir rehearsal\, immediately following worship & Discipleship Class\, immediately following worship.
URL:https://fbcpawtucket.org/event/sunday-worship-service-3/
END:VEVENT
BEGIN:VEVENT
DTSTART;TZID=UTC:20260127T190000
DTEND;TZID=UTC:20260127T190000
DTSTAMP:20260424T182517
CREATED:20251217T182328Z
LAST-MODIFIED:20251217T182328Z
UID:8342-1769540400-1769540400@fbcpawtucket.org
SUMMARY:Bible Study in Parlor-Weather Permitting
DESCRIPTION:
URL:https://fbcpawtucket.org/event/bible-study-in-parlor-weather-permitting-3/
END:VEVENT
END:VCALENDAR