BEGIN:VCALENDAR
VERSION:2.0
PRODID:-//First Baptist Church of Pawtucket - ECPv6.15.13//NONSGML v1.0//EN
CALSCALE:GREGORIAN
METHOD:PUBLISH
X-ORIGINAL-URL:https://fbcpawtucket.org
X-WR-CALDESC:Events for First Baptist Church of Pawtucket
REFRESH-INTERVAL;VALUE=DURATION:PT1H
X-Robots-Tag:noindex
X-PUBLISHED-TTL:PT1H
BEGIN:VTIMEZONE
TZID:UTC
BEGIN:STANDARD
TZOFFSETFROM:+0000
TZOFFSETTO:+0000
TZNAME:UTC
DTSTART:20240101T000000
END:STANDARD
END:VTIMEZONE
BEGIN:VEVENT
DTSTART;TZID=UTC:20251202T190000
DTEND;TZID=UTC:20251202T190000
DTSTAMP:20260424T195539
CREATED:20251202T165042Z
LAST-MODIFIED:20251202T165042Z
UID:8299-1764702000-1764702000@fbcpawtucket.org
SUMMARY:Bible Study in Parlor
DESCRIPTION:
URL:https://fbcpawtucket.org/event/bible-study-in-parlor-5/
END:VEVENT
BEGIN:VEVENT
DTSTART;TZID=UTC:20251207T100000
DTEND;TZID=UTC:20251207T110000
DTSTAMP:20260424T195539
CREATED:20251024T174337Z
LAST-MODIFIED:20251024T174513Z
UID:8241-1765101600-1765105200@fbcpawtucket.org
SUMMARY:Advent 2nd Sunday & Communion Worship Service
DESCRIPTION:FBC & Rev. Karen East Robinson welcomes you to our 2nd Sunday in Advent & Communion worship service beginning at 10:00 a.m.  Our parking lot is located at 45 Lyon Street. Come and worship the Lord!  After the opening hymn\, children & youth recess to Sunday School.  Choir rehearsal\, immediately following worship & Discipleship Class\, immediately following worship.
URL:https://fbcpawtucket.org/event/advent-2nd-sunday-communion-worship-service/
END:VEVENT
BEGIN:VEVENT
DTSTART;VALUE=DATE:20251209
DTEND;VALUE=DATE:20251210
DTSTAMP:20260424T195539
CREATED:20251024T175321Z
LAST-MODIFIED:20251024T175321Z
UID:8255-1765238400-1765324799@fbcpawtucket.org
SUMMARY:FBC Office Closed
DESCRIPTION:
URL:https://fbcpawtucket.org/event/fbc-office-closed-7/
END:VEVENT
BEGIN:VEVENT
DTSTART;TZID=UTC:20251209T190000
DTEND;TZID=UTC:20251209T190000
DTSTAMP:20260424T195539
CREATED:20251202T165113Z
LAST-MODIFIED:20251202T165113Z
UID:8301-1765306800-1765306800@fbcpawtucket.org
SUMMARY:Bible Study in Parlor
DESCRIPTION:
URL:https://fbcpawtucket.org/event/bible-study-in-parlor-6/
END:VEVENT
BEGIN:VEVENT
DTSTART;TZID=UTC:20251214T100000
DTEND;TZID=UTC:20251214T100000
DTSTAMP:20260424T195539
CREATED:20251202T164401Z
LAST-MODIFIED:20251202T164727Z
UID:8290-1765706400-1765706400@fbcpawtucket.org
SUMMARY:3rd Sunday of Advent
DESCRIPTION:FBC & Rev. Karen East Robinson welcomes you to our 3rd Sunday in Advent worship service beginning at 10:00 a.m.  Our parking lot is located at 45 Lyon Street. Come and worship the Lord!  After the opening hymn\, children & youth recess to Sunday School.  Choir rehearsal\, immediately following worship & Discipleship Class\, immediately following worship.
URL:https://fbcpawtucket.org/event/3rd-sunday-of-advent/
END:VEVENT
BEGIN:VEVENT
DTSTART;TZID=UTC:20251216T190000
DTEND;TZID=UTC:20251216T190000
DTSTAMP:20260424T195539
CREATED:20251202T165149Z
LAST-MODIFIED:20251202T165149Z
UID:8303-1765911600-1765911600@fbcpawtucket.org
SUMMARY:Bible Study in Parlor
DESCRIPTION:
URL:https://fbcpawtucket.org/event/bible-study-in-parlor-7/
END:VEVENT
BEGIN:VEVENT
DTSTART;TZID=UTC:20251217T183000
DTEND;TZID=UTC:20251217T183000
DTSTAMP:20260424T195539
CREATED:20251202T165405Z
LAST-MODIFIED:20251217T181859Z
UID:8309-1765996200-1765996200@fbcpawtucket.org
SUMMARY:Board of Governors meeting
DESCRIPTION:
URL:https://fbcpawtucket.org/event/board-of-governors-meeting-26/
END:VEVENT
BEGIN:VEVENT
DTSTART;VALUE=DATE:20251219
DTEND;VALUE=DATE:20251220
DTSTAMP:20260424T195539
CREATED:20251024T175406Z
LAST-MODIFIED:20251024T175406Z
UID:8257-1766102400-1766188799@fbcpawtucket.org
SUMMARY:FBC Office Closed
DESCRIPTION:
URL:https://fbcpawtucket.org/event/fbc-office-closed-8/
END:VEVENT
BEGIN:VEVENT
DTSTART;TZID=UTC:20251220T090000
DTEND;TZID=UTC:20251220T120000
DTSTAMP:20260424T195539
CREATED:20250924T152506Z
LAST-MODIFIED:20250924T152506Z
UID:8213-1766221200-1766232000@fbcpawtucket.org
SUMMARY:Food Pantry Open
DESCRIPTION:FBC’s Food Pantry is held once a month\, on a Saturday\, from 9AM until Noon.  If you are coming to the Food Pantry\, practice social distancing and if you are sick\, stay home.  Please bring your own reusable bags. FBC parking and entrance located at 45 Lyon Street.
URL:https://fbcpawtucket.org/event/food-pantry-open-9/
END:VEVENT
BEGIN:VEVENT
DTSTART;TZID=UTC:20251221T100000
DTEND;TZID=UTC:20251221T233000
DTSTAMP:20260424T195539
CREATED:20251202T164524Z
LAST-MODIFIED:20251202T164910Z
UID:8292-1766311200-1766359800@fbcpawtucket.org
SUMMARY:Christmas Sunday Celebration
DESCRIPTION:FBC & Rev. Karen East Robinson welcomes you to our 4th Sunday in Advent worship service beginning at 10:00 a.m.  Our parking lot is located at 45 Lyon Street. Come and worship the Lord!  Children & youth will remain in the sanctuary.
URL:https://fbcpawtucket.org/event/christmas-sunday-celebration/
END:VEVENT
BEGIN:VEVENT
DTSTART;VALUE=DATE:20251224
DTEND;VALUE=DATE:20251225
DTSTAMP:20260424T195539
CREATED:20251024T175659Z
LAST-MODIFIED:20251024T175659Z
UID:8266-1766534400-1766620799@fbcpawtucket.org
SUMMARY:Christmas Eve
DESCRIPTION:
URL:https://fbcpawtucket.org/event/christmas-eve-2/
END:VEVENT
BEGIN:VEVENT
DTSTART;VALUE=DATE:20251225
DTEND;VALUE=DATE:20251226
DTSTAMP:20260424T195539
CREATED:20251024T175731Z
LAST-MODIFIED:20251024T175731Z
UID:8268-1766620800-1766707199@fbcpawtucket.org
SUMMARY:Christmas Day! Happy Birthday Jesus!
DESCRIPTION:
URL:https://fbcpawtucket.org/event/christmas-day-happy-birthday-jesus-6/
END:VEVENT
BEGIN:VEVENT
DTSTART;VALUE=DATE:20251226
DTEND;VALUE=DATE:20251227
DTSTAMP:20260424T195539
CREATED:20251024T175427Z
LAST-MODIFIED:20251024T175427Z
UID:8259-1766707200-1766793599@fbcpawtucket.org
SUMMARY:FBC Office Closed
DESCRIPTION:
URL:https://fbcpawtucket.org/event/fbc-office-closed-9/
END:VEVENT
BEGIN:VEVENT
DTSTART;TZID=UTC:20251228T100000
DTEND;TZID=UTC:20251228T100000
DTSTAMP:20260424T195539
CREATED:20251202T164614Z
LAST-MODIFIED:20251202T164614Z
UID:8294-1766916000-1766916000@fbcpawtucket.org
SUMMARY:Sunday Worship Service
DESCRIPTION:FBC & Rev. Karen East Robinson welcomes you to our Sunday worship service beginning at 10:00 a.m.  Our parking lot is located at 45 Lyon Street. Come and worship the Lord!  After the opening hymn\, children & youth recess to Sunday School.  Choir rehearsal\, immediately following worship & Discipleship Class\, immediately following worship.
URL:https://fbcpawtucket.org/event/sunday-worship-service/
END:VEVENT
BEGIN:VEVENT
DTSTART;TZID=UTC:20251230T190000
DTEND;TZID=UTC:20251230T190000
DTSTAMP:20260424T195539
CREATED:20251202T165220Z
LAST-MODIFIED:20251202T165220Z
UID:8305-1767121200-1767121200@fbcpawtucket.org
SUMMARY:Bible Study in Parlor
DESCRIPTION:
URL:https://fbcpawtucket.org/event/bible-study-in-parlor-8/
END:VEVENT
END:VCALENDAR