BEGIN:VCALENDAR
VERSION:2.0
PRODID:-//First Baptist Church of Pawtucket - ECPv6.15.13//NONSGML v1.0//EN
CALSCALE:GREGORIAN
METHOD:PUBLISH
X-ORIGINAL-URL:https://fbcpawtucket.org
X-WR-CALDESC:Events for First Baptist Church of Pawtucket
REFRESH-INTERVAL;VALUE=DURATION:PT1H
X-Robots-Tag:noindex
X-PUBLISHED-TTL:PT1H
BEGIN:VTIMEZONE
TZID:UTC
BEGIN:STANDARD
TZOFFSETFROM:+0000
TZOFFSETTO:+0000
TZNAME:UTC
DTSTART:20240101T000000
END:STANDARD
END:VTIMEZONE
BEGIN:VEVENT
DTSTART;TZID=UTC:20251102T100000
DTEND;TZID=UTC:20251102T110000
DTSTAMP:20260424T212347
CREATED:20251024T173550Z
LAST-MODIFIED:20251024T173550Z
UID:8229-1762077600-1762081200@fbcpawtucket.org
SUMMARY:Communion Worship Service
DESCRIPTION:FBC & Rev. Karen East Robinson welcomes you to our Communion worship service beginning at 10:00 a.m.  Our parking lot is located at 45 Lyon Street. Come and worship the Lord!  After the opening hymn\, children & youth recess to Sunday School.  Choir rehearsal\, immediately following worship & Discipleship Class\, immediately following worship.
URL:https://fbcpawtucket.org/event/communion-worship-service-26/
END:VEVENT
BEGIN:VEVENT
DTSTART;TZID=UTC:20251104T070000
DTEND;TZID=UTC:20251104T190000
DTSTAMP:20260424T212347
CREATED:20250924T152103Z
LAST-MODIFIED:20250924T152103Z
UID:8207-1762239600-1762282800@fbcpawtucket.org
SUMMARY:Bible Study
DESCRIPTION:Bible Study in the Parlor tonight at 7:00 p.m. with Rev. Karen East Robinson. All are welcome.
URL:https://fbcpawtucket.org/event/bible-study-121/
END:VEVENT
BEGIN:VEVENT
DTSTART;TZID=UTC:20251109T100000
DTEND;TZID=UTC:20251109T110000
DTSTAMP:20260424T212347
CREATED:20251024T173801Z
LAST-MODIFIED:20251024T173801Z
UID:8233-1762682400-1762686000@fbcpawtucket.org
SUMMARY:Worship Service
DESCRIPTION:FBC & Rev. Karen East Robinson welcomes you to our Sunday worship service beginning at 10:00 a.m.  Our parking lot is located at 45 Lyon Street. Come and worship the Lord!  After the opening hymn\, children & youth recess to Sunday School.  Choir rehearsal\, immediately following worship & Discipleship Class\, immediately following worship.
URL:https://fbcpawtucket.org/event/worship-service-112/
END:VEVENT
BEGIN:VEVENT
DTSTART;TZID=UTC:20251111T190000
DTEND;TZID=UTC:20251111T190000
DTSTAMP:20260424T212347
CREATED:20251024T174633Z
LAST-MODIFIED:20251024T174633Z
UID:8244-1762887600-1762887600@fbcpawtucket.org
SUMMARY:Bible Study in Parlor
DESCRIPTION:
URL:https://fbcpawtucket.org/event/bible-study-in-parlor/
END:VEVENT
BEGIN:VEVENT
DTSTART;TZID=UTC:20251112T183000
DTEND;TZID=UTC:20251112T183000
DTSTAMP:20260424T212347
CREATED:20251028T141346Z
LAST-MODIFIED:20251028T141346Z
UID:8275-1762972200-1762972200@fbcpawtucket.org
SUMMARY:Board of Governors meeting
DESCRIPTION:
URL:https://fbcpawtucket.org/event/board-of-governors-meeting-25/
END:VEVENT
BEGIN:VEVENT
DTSTART;TZID=UTC:20251116T100000
DTEND;TZID=UTC:20251116T110000
DTSTAMP:20260424T212347
CREATED:20251024T173847Z
LAST-MODIFIED:20251024T173847Z
UID:8235-1763287200-1763290800@fbcpawtucket.org
SUMMARY:Worship Service
DESCRIPTION:FBC & Rev. Karen East Robinson welcomes you to our Sunday worship service beginning at 10:00 a.m.  Our parking lot is located at 45 Lyon Street. Come and worship the Lord!  After the opening hymn\, children & youth recess to Sunday School.  Choir rehearsal\, immediately following worship & Discipleship Class\, immediately following worship.
URL:https://fbcpawtucket.org/event/worship-service-113/
END:VEVENT
BEGIN:VEVENT
DTSTART;TZID=UTC:20251118T183000
DTEND;TZID=UTC:20251118T183000
DTSTAMP:20260424T212347
CREATED:20251024T185823Z
LAST-MODIFIED:20251024T185823Z
UID:8270-1763490600-1763490600@fbcpawtucket.org
SUMMARY:Christian Education Zoom
DESCRIPTION:
URL:https://fbcpawtucket.org/event/christian-education-zoom/
END:VEVENT
BEGIN:VEVENT
DTSTART;TZID=UTC:20251118T190000
DTEND;TZID=UTC:20251118T190000
DTSTAMP:20260424T212347
CREATED:20251024T174704Z
LAST-MODIFIED:20251024T174704Z
UID:8246-1763492400-1763492400@fbcpawtucket.org
SUMMARY:Bible Study in Parlor
DESCRIPTION:
URL:https://fbcpawtucket.org/event/bible-study-in-parlor-2/
END:VEVENT
BEGIN:VEVENT
DTSTART;TZID=UTC:20251122T090000
DTEND;TZID=UTC:20251122T120000
DTSTAMP:20260424T212347
CREATED:20250924T152416Z
LAST-MODIFIED:20250924T152416Z
UID:8211-1763802000-1763812800@fbcpawtucket.org
SUMMARY:Food Pantry Open
DESCRIPTION:FBC’s Food Pantry is held once a month\, on a Saturday\, from 9AM until Noon.  If you are coming to the Food Pantry\, practice social distancing and if you are sick\, stay home.  Please bring your own reusable bags. FBC parking and entrance located at 45 Lyon Street.
URL:https://fbcpawtucket.org/event/food-pantry-open-8/
END:VEVENT
BEGIN:VEVENT
DTSTART;TZID=UTC:20251123T100000
DTEND;TZID=UTC:20251123T110000
DTSTAMP:20260424T212347
CREATED:20251024T173950Z
LAST-MODIFIED:20251024T173950Z
UID:8237-1763892000-1763895600@fbcpawtucket.org
SUMMARY:Thanksgiving Sunday Worship Service
DESCRIPTION:FBC & Rev. Karen East Robinson welcomes you to our Thanksgiving Sunday worship service beginning at 10:00 a.m.  Our parking lot is located at 45 Lyon Street. Come and worship the Lord!  After the opening hymn\, children & youth recess to Sunday School.  Choir rehearsal\, immediately following worship & Discipleship Class\, immediately following worship.
URL:https://fbcpawtucket.org/event/thanksgiving-sunday-worship-service-2/
END:VEVENT
BEGIN:VEVENT
DTSTART;TZID=UTC:20251125T190000
DTEND;TZID=UTC:20251125T190000
DTSTAMP:20260424T212347
CREATED:20251024T174738Z
LAST-MODIFIED:20251024T174738Z
UID:8248-1764097200-1764097200@fbcpawtucket.org
SUMMARY:Bible Study in Parlor
DESCRIPTION:
URL:https://fbcpawtucket.org/event/bible-study-in-parlor-3/
END:VEVENT
BEGIN:VEVENT
DTSTART;VALUE=DATE:20251126
DTEND;VALUE=DATE:20251127
DTSTAMP:20260424T212347
CREATED:20251024T175253Z
LAST-MODIFIED:20251024T175253Z
UID:8253-1764115200-1764201599@fbcpawtucket.org
SUMMARY:FBC Office Closed
DESCRIPTION:
URL:https://fbcpawtucket.org/event/fbc-office-closed-6/
END:VEVENT
BEGIN:VEVENT
DTSTART;VALUE=DATE:20251127
DTEND;VALUE=DATE:20251128
DTSTAMP:20260424T212347
CREATED:20251024T175553Z
LAST-MODIFIED:20251024T175553Z
UID:8264-1764201600-1764287999@fbcpawtucket.org
SUMMARY:Thanksgiving Day! office closed
DESCRIPTION:
URL:https://fbcpawtucket.org/event/thanksgiving-day-office-closed/
END:VEVENT
BEGIN:VEVENT
DTSTART;VALUE=DATE:20251128
DTEND;VALUE=DATE:20251129
DTSTAMP:20260424T212347
CREATED:20251024T174809Z
LAST-MODIFIED:20251024T175150Z
UID:8250-1764288000-1764374399@fbcpawtucket.org
SUMMARY:FBC Office Closed
DESCRIPTION:
URL:https://fbcpawtucket.org/event/bible-study-in-parlor-4/
END:VEVENT
BEGIN:VEVENT
DTSTART;TZID=UTC:20251130T100000
DTEND;TZID=UTC:20251130T110000
DTSTAMP:20260424T212347
CREATED:20251024T174112Z
LAST-MODIFIED:20251024T174112Z
UID:8239-1764496800-1764500400@fbcpawtucket.org
SUMMARY:Advent 1st Sunday\, Worship Service
DESCRIPTION:FBC & Rev. Karen East Robinson welcomes you to our 1st Advent Sunday worship service beginning at 10:00 a.m.  Our parking lot is located at 45 Lyon Street. Come and worship the Lord!  After the opening hymn\, children & youth recess to Sunday School.  Choir rehearsal\, immediately following worship & Discipleship Class\, immediately following worship.
URL:https://fbcpawtucket.org/event/advent-1st-sunday-worship-service/
END:VEVENT
END:VCALENDAR