BEGIN:VCALENDAR
VERSION:2.0
PRODID:-//First Baptist Church of Pawtucket - ECPv6.15.13//NONSGML v1.0//EN
CALSCALE:GREGORIAN
METHOD:PUBLISH
X-ORIGINAL-URL:https://fbcpawtucket.org
X-WR-CALDESC:Events for First Baptist Church of Pawtucket
REFRESH-INTERVAL;VALUE=DURATION:PT1H
X-Robots-Tag:noindex
X-PUBLISHED-TTL:PT1H
BEGIN:VTIMEZONE
TZID:UTC
BEGIN:STANDARD
TZOFFSETFROM:+0000
TZOFFSETTO:+0000
TZNAME:UTC
DTSTART:20240101T000000
END:STANDARD
END:VTIMEZONE
BEGIN:VEVENT
DTSTART;TZID=UTC:20251005T100000
DTEND;TZID=UTC:20251005T100000
DTSTAMP:20260424T224739
CREATED:20250924T151307Z
LAST-MODIFIED:20250924T151307Z
UID:8194-1759658400-1759658400@fbcpawtucket.org
SUMMARY:Communion Worship Service
DESCRIPTION:FBC & Rev. Karen East Robinson welcomes you to our Communion worship service beginning at 10:00 a.m.  Our parking lot is located at 45 Lyon Street. Come and worship the Lord!  After the opening hymn\, children & youth recess to Sunday School.  Choir rehearsal\, immediately following worship & Discipleship Class\, immediately following worship.
URL:https://fbcpawtucket.org/event/communion-worship-service-25/
END:VEVENT
BEGIN:VEVENT
DTSTART;TZID=UTC:20251007T190000
DTEND;TZID=UTC:20251007T190000
DTSTAMP:20260424T224739
CREATED:20250820T152433Z
LAST-MODIFIED:20250820T152433Z
UID:8177-1759863600-1759863600@fbcpawtucket.org
SUMMARY:Bible Study
DESCRIPTION:Bible Study in the Parlor tonight at 7:00 p.m. with Rev. Karen East Robinson. All are welcome.
URL:https://fbcpawtucket.org/event/bible-study-117/
END:VEVENT
BEGIN:VEVENT
DTSTART;TZID=UTC:20251008T183000
DTEND;TZID=UTC:20251008T183000
DTSTAMP:20260424T224739
CREATED:20250820T151936Z
LAST-MODIFIED:20250820T151936Z
UID:8167-1759948200-1759948200@fbcpawtucket.org
SUMMARY:Board of Governors meeting
DESCRIPTION:
URL:https://fbcpawtucket.org/event/board-of-governors-meeting-24/
END:VEVENT
BEGIN:VEVENT
DTSTART;TZID=UTC:20251012T100000
DTEND;TZID=UTC:20251012T100000
DTSTAMP:20260424T224739
CREATED:20250820T151012Z
LAST-MODIFIED:20250924T151427Z
UID:8163-1760263200-1760263200@fbcpawtucket.org
SUMMARY:Worship Service
DESCRIPTION:FBC & Rev. Karen East Robinson welcomes you to our Worship Service which begins at 10:00 a.m.  Come and worship the Lord! Children & Youth are dismissed for Sunday School after the 1st hymn. Choir rehearsal starts immediately following the service. Our parking lot is located at 45 Lyon Street. 
URL:https://fbcpawtucket.org/event/worship-service-109/
END:VEVENT
BEGIN:VEVENT
DTSTART;TZID=UTC:20251014T070000
DTEND;TZID=UTC:20251014T190000
DTSTAMP:20260424T224739
CREATED:20250924T151906Z
LAST-MODIFIED:20250924T151906Z
UID:8201-1760425200-1760468400@fbcpawtucket.org
SUMMARY:Bible Study
DESCRIPTION:Bible Study in the Parlor tonight at 7:00 p.m. with Rev. Karen East Robinson. All are welcome.
URL:https://fbcpawtucket.org/event/bible-study-118/
END:VEVENT
BEGIN:VEVENT
DTSTART;TZID=UTC:20251018T090000
DTEND;TZID=UTC:20251018T120000
DTSTAMP:20260424T224739
CREATED:20250924T152328Z
LAST-MODIFIED:20250924T152328Z
UID:8209-1760778000-1760788800@fbcpawtucket.org
SUMMARY:Food Pantry Open
DESCRIPTION:FBC’s Food Pantry is held once a month\, on a Saturday\, from 9AM until Noon.  If you are coming to the Food Pantry\, practice social distancing and if you are sick\, stay home.  Please bring your own reusable bags. FBC parking and entrance located at 45 Lyon Street.
URL:https://fbcpawtucket.org/event/food-pantry-open-7/
END:VEVENT
BEGIN:VEVENT
DTSTART;TZID=UTC:20251019T100000
DTEND;TZID=UTC:20251019T100000
DTSTAMP:20260424T224739
CREATED:20250924T151528Z
LAST-MODIFIED:20250924T151528Z
UID:8197-1760868000-1760868000@fbcpawtucket.org
SUMMARY:Worship Service
DESCRIPTION:FBC & Rev. Karen East Robinson welcomes you to our Worship Service which begins at 10:00 a.m.  Come and worship the Lord! Children & Youth are dismissed for Sunday School after the 1st hymn. Choir rehearsal starts immediately following the service. Our parking lot is located at 45 Lyon Street. 
URL:https://fbcpawtucket.org/event/worship-service-110/
END:VEVENT
BEGIN:VEVENT
DTSTART;TZID=UTC:20251021T070000
DTEND;TZID=UTC:20251021T190000
DTSTAMP:20260424T224739
CREATED:20250924T151947Z
LAST-MODIFIED:20250924T151947Z
UID:8203-1761030000-1761073200@fbcpawtucket.org
SUMMARY:Bible Study
DESCRIPTION:Bible Study in the Parlor tonight at 7:00 p.m. with Rev. Karen East Robinson. All are welcome.
URL:https://fbcpawtucket.org/event/bible-study-119/
END:VEVENT
BEGIN:VEVENT
DTSTART;TZID=UTC:20251026T100000
DTEND;TZID=UTC:20251026T100000
DTSTAMP:20260424T224739
CREATED:20250924T151639Z
LAST-MODIFIED:20250924T151721Z
UID:8199-1761472800-1761472800@fbcpawtucket.org
SUMMARY:Worship Service
DESCRIPTION:FBC & Rev. Karen East Robinson welcomes you to our Worship Service which begins at 10:00 a.m.  Come and worship the Lord! Children & Youth are dismissed for Sunday School after the 1st hymn. Choir rehearsal starts immediately following the service. Our parking lot is located at 45 Lyon Street. 
URL:https://fbcpawtucket.org/event/worship-service-111/
END:VEVENT
BEGIN:VEVENT
DTSTART;TZID=UTC:20251028T070000
DTEND;TZID=UTC:20251028T190000
DTSTAMP:20260424T224739
CREATED:20250924T152028Z
LAST-MODIFIED:20250924T152028Z
UID:8205-1761634800-1761678000@fbcpawtucket.org
SUMMARY:Bible Study
DESCRIPTION:Bible Study in the Parlor tonight at 7:00 p.m. with Rev. Karen East Robinson. All are welcome.
URL:https://fbcpawtucket.org/event/bible-study-120/
END:VEVENT
END:VCALENDAR