BEGIN:VCALENDAR
VERSION:2.0
PRODID:-//First Baptist Church of Pawtucket - ECPv6.15.13//NONSGML v1.0//EN
CALSCALE:GREGORIAN
METHOD:PUBLISH
X-ORIGINAL-URL:https://fbcpawtucket.org
X-WR-CALDESC:Events for First Baptist Church of Pawtucket
REFRESH-INTERVAL;VALUE=DURATION:PT1H
X-Robots-Tag:noindex
X-PUBLISHED-TTL:PT1H
BEGIN:VTIMEZONE
TZID:UTC
BEGIN:STANDARD
TZOFFSETFROM:+0000
TZOFFSETTO:+0000
TZNAME:UTC
DTSTART:20240101T000000
END:STANDARD
END:VTIMEZONE
BEGIN:VEVENT
DTSTART;TZID=UTC:20250901T080000
DTEND;TZID=UTC:20250901T170000
DTSTAMP:20260425T002903
CREATED:20250708T142340Z
LAST-MODIFIED:20250708T142340Z
UID:8133-1756713600-1756746000@fbcpawtucket.org
SUMMARY:Labor Day Holiday
DESCRIPTION:
URL:https://fbcpawtucket.org/event/labor-day-holiday-2/
END:VEVENT
BEGIN:VEVENT
DTSTART;TZID=UTC:20250907T100000
DTEND;TZID=UTC:20250907T100000
DTSTAMP:20260425T002903
CREATED:20250708T135715Z
LAST-MODIFIED:20250708T135715Z
UID:8101-1757239200-1757239200@fbcpawtucket.org
SUMMARY:Communion Worship Service
DESCRIPTION:FBC & Rev. Karen East Robinson welcomes you to our Communion worship service beginning at 10:00 a.m.  Our parking lot is located at 45 Lyon Street. Come and worship the Lord!
URL:https://fbcpawtucket.org/event/communion-worship-service-24/
END:VEVENT
BEGIN:VEVENT
DTSTART;TZID=UTC:20250909T070000
DTEND;TZID=UTC:20250909T190000
DTSTAMP:20260425T002903
CREATED:20250820T152128Z
LAST-MODIFIED:20250820T152128Z
UID:8169-1757401200-1757444400@fbcpawtucket.org
SUMMARY:Bible Study
DESCRIPTION:Bible Study in the Parlor tonight at 7:00 p.m. with Rev. Karen East Robinson. All are welcome.
URL:https://fbcpawtucket.org/event/bible-study-113/
END:VEVENT
BEGIN:VEVENT
DTSTART;TZID=UTC:20250910T183000
DTEND;TZID=UTC:20250910T183000
DTSTAMP:20260425T002903
CREATED:20250820T151859Z
LAST-MODIFIED:20250820T151859Z
UID:8165-1757529000-1757529000@fbcpawtucket.org
SUMMARY:Board of Governors meeting
DESCRIPTION:
URL:https://fbcpawtucket.org/event/board-of-governors-meeting-23/
END:VEVENT
BEGIN:VEVENT
DTSTART;TZID=UTC:20250914T100000
DTEND;TZID=UTC:20250914T100000
DTSTAMP:20260425T002903
CREATED:20250820T150531Z
LAST-MODIFIED:20250820T150531Z
UID:8157-1757844000-1757844000@fbcpawtucket.org
SUMMARY:Worship Service & Rally Day
DESCRIPTION:FBC & Rev. Karen East Robinson welcomes you to our Worship Service & Rally Day! which begins at 10:00 a.m.  Our parking lot is located at 45 Lyon Street. Come and worship the Lord! Choir rehearsal immediately follows the service.
URL:https://fbcpawtucket.org/event/worship-service-rally-day/
END:VEVENT
BEGIN:VEVENT
DTSTART;TZID=UTC:20250916T190000
DTEND;TZID=UTC:20250916T190000
DTSTAMP:20260425T002903
CREATED:20250820T152215Z
LAST-MODIFIED:20250820T152239Z
UID:8171-1758049200-1758049200@fbcpawtucket.org
SUMMARY:Bible Study
DESCRIPTION:Bible Study in the Parlor tonight at 7:00 p.m. with Rev. Karen East Robinson. All are welcome.
URL:https://fbcpawtucket.org/event/bible-study-114/
END:VEVENT
BEGIN:VEVENT
DTSTART;TZID=UTC:20250920T090000
DTEND;TZID=UTC:20250920T120000
DTSTAMP:20260425T002903
CREATED:20250708T141920Z
LAST-MODIFIED:20250708T141920Z
UID:8127-1758358800-1758369600@fbcpawtucket.org
SUMMARY:FBC Food Pantry open
DESCRIPTION:FBC’s Food Pantry is held once a month\, on a Saturday\, from 9AM until Noon.  If you are coming to the Food Pantry\, practice social distancing and if you are sick\, stay home.  Please bring your own reusable bags. FBC parking and entrance located at 45 Lyon Street.
URL:https://fbcpawtucket.org/event/fbc-food-pantry-open/
END:VEVENT
BEGIN:VEVENT
DTSTART;TZID=UTC:20250921T100000
DTEND;TZID=UTC:20250921T100000
DTSTAMP:20260425T002903
CREATED:20250820T150752Z
LAST-MODIFIED:20250820T150752Z
UID:8159-1758448800-1758448800@fbcpawtucket.org
SUMMARY:Worship Service
DESCRIPTION:FBC & Rev. Karen East Robinson welcomes you to our Worship Service which begins at 10:00 a.m.  Our parking lot is located at 45 Lyon Street. Come and worship the Lord! Children & Youth are dismissed for Sunday School after the 1st hymn. Choir rehearsal starts immediately following the service.
URL:https://fbcpawtucket.org/event/worship-service-107/
END:VEVENT
BEGIN:VEVENT
DTSTART;TZID=UTC:20250923T190000
DTEND;TZID=UTC:20250923T190000
DTSTAMP:20260425T002903
CREATED:20250820T152324Z
LAST-MODIFIED:20250820T152324Z
UID:8173-1758654000-1758654000@fbcpawtucket.org
SUMMARY:Bible Study
DESCRIPTION:Bible Study in the Parlor tonight at 7:00 p.m. with Rev. Karen East Robinson. All are welcome.
URL:https://fbcpawtucket.org/event/bible-study-115/
END:VEVENT
BEGIN:VEVENT
DTSTART;TZID=UTC:20250928T100000
DTEND;TZID=UTC:20250928T100000
DTSTAMP:20260425T002903
CREATED:20250820T150933Z
LAST-MODIFIED:20250820T150933Z
UID:8161-1759053600-1759053600@fbcpawtucket.org
SUMMARY:Worship Service
DESCRIPTION:FBC & Rev. Karen East Robinson welcomes you to our Worship Service which begins at 10:00 a.m.  Come and worship the Lord! Children & Youth are dismissed for Sunday School after the 1st hymn. Choir rehearsal starts immediately following the service. Our parking lot is located at 45 Lyon Street.
URL:https://fbcpawtucket.org/event/worship-service-108/
END:VEVENT
BEGIN:VEVENT
DTSTART;TZID=UTC:20250930T190000
DTEND;TZID=UTC:20250930T190000
DTSTAMP:20260425T002903
CREATED:20250820T152401Z
LAST-MODIFIED:20250820T152401Z
UID:8175-1759258800-1759258800@fbcpawtucket.org
SUMMARY:Bible Study
DESCRIPTION:Bible Study in the Parlor tonight at 7:00 p.m. with Rev. Karen East Robinson. All are welcome.
URL:https://fbcpawtucket.org/event/bible-study-116/
END:VEVENT
END:VCALENDAR