BEGIN:VCALENDAR
VERSION:2.0
PRODID:-//First Baptist Church of Pawtucket - ECPv6.15.13//NONSGML v1.0//EN
CALSCALE:GREGORIAN
METHOD:PUBLISH
X-ORIGINAL-URL:https://fbcpawtucket.org
X-WR-CALDESC:Events for First Baptist Church of Pawtucket
REFRESH-INTERVAL;VALUE=DURATION:PT1H
X-Robots-Tag:noindex
X-PUBLISHED-TTL:PT1H
BEGIN:VTIMEZONE
TZID:UTC
BEGIN:STANDARD
TZOFFSETFROM:+0000
TZOFFSETTO:+0000
TZNAME:UTC
DTSTART:20240101T000000
END:STANDARD
END:VTIMEZONE
BEGIN:VEVENT
DTSTART;TZID=UTC:20250803T100000
DTEND;TZID=UTC:20250803T100000
DTSTAMP:20260425T020535
CREATED:20250708T135632Z
LAST-MODIFIED:20250708T135632Z
UID:8099-1754215200-1754215200@fbcpawtucket.org
SUMMARY:Communion Worship Service
DESCRIPTION:FBC & Rev. Karen East Robinson welcomes you to our Communion worship service beginning at 10:00 a.m.  Our parking lot is located at 45 Lyon Street. Come and worship the Lord!
URL:https://fbcpawtucket.org/event/communion-worship-service-23/
END:VEVENT
BEGIN:VEVENT
DTSTART;TZID=UTC:20250805T080000
DTEND;TZID=UTC:20250805T170000
DTSTAMP:20260425T020535
CREATED:20250708T141308Z
LAST-MODIFIED:20250708T141308Z
UID:8120-1754380800-1754413200@fbcpawtucket.org
SUMMARY:No Bible Study over the Summer
DESCRIPTION:
URL:https://fbcpawtucket.org/event/no-bible-study-over-the-summer-4/
END:VEVENT
BEGIN:VEVENT
DTSTART;TZID=UTC:20250810T100000
DTEND;TZID=UTC:20250810T100000
DTSTAMP:20260425T020535
CREATED:20250708T140336Z
LAST-MODIFIED:20250708T140336Z
UID:8109-1754820000-1754820000@fbcpawtucket.org
SUMMARY:Worship Service
DESCRIPTION:FBC & Rev. Karen East Robinson welcomes you to our Worship Service which begins at 10:00 a.m.  Our parking lot is located at 45 Lyon Street. Come and worship the Lord! Children & Youth Sunday School and Bible Study will resume in September.
URL:https://fbcpawtucket.org/event/worship-service-103/
END:VEVENT
BEGIN:VEVENT
DTSTART;TZID=UTC:20250813T183000
DTEND;TZID=UTC:20250813T183000
DTSTAMP:20260425T020535
CREATED:20250507T141151Z
LAST-MODIFIED:20250530T164906Z
UID:8030-1755109800-1755109800@fbcpawtucket.org
SUMMARY:Board of Governors meeting
DESCRIPTION:
URL:https://fbcpawtucket.org/event/board-of-governors-meeting-22/
END:VEVENT
BEGIN:VEVENT
DTSTART;TZID=UTC:20250816T080000
DTEND;TZID=UTC:20250816T170000
DTSTAMP:20260425T020535
CREATED:20250708T141545Z
LAST-MODIFIED:20250708T142749Z
UID:8124-1755331200-1755363600@fbcpawtucket.org
SUMMARY:Food Pantry-Closed until September
DESCRIPTION:It will reopen on Saturday\, September 20st from 9am until noontime.
URL:https://fbcpawtucket.org/event/closed-until-september-2/
END:VEVENT
BEGIN:VEVENT
DTSTART;TZID=UTC:20250817T100000
DTEND;TZID=UTC:20250817T100000
DTSTAMP:20260425T020535
CREATED:20250708T140607Z
LAST-MODIFIED:20250708T140607Z
UID:8111-1755424800-1755424800@fbcpawtucket.org
SUMMARY:Worship Service
DESCRIPTION:FBC & Rev. Karen East Robinson welcomes you to our Worship Service which begins at 10:00 a.m.  Our parking lot is located at 45 Lyon Street. Come and worship the Lord! Children & Youth Sunday School and Bible Study will resume in September.
URL:https://fbcpawtucket.org/event/worship-service-104/
END:VEVENT
BEGIN:VEVENT
DTSTART;TZID=UTC:20250824T100000
DTEND;TZID=UTC:20250824T100000
DTSTAMP:20260425T020535
CREATED:20250708T140703Z
LAST-MODIFIED:20250708T140703Z
UID:8113-1756029600-1756029600@fbcpawtucket.org
SUMMARY:Worship Service
DESCRIPTION:FBC & Rev. Karen East Robinson welcomes you to our Worship Service which begins at 10:00 a.m.  Our parking lot is located at 45 Lyon Street. Come and worship the Lord! Children & Youth Sunday School and Bible Study will resume in September.
URL:https://fbcpawtucket.org/event/worship-service-105/
END:VEVENT
BEGIN:VEVENT
DTSTART;TZID=UTC:20250829T080000
DTEND;TZID=UTC:20250829T170000
DTSTAMP:20260425T020535
CREATED:20250820T152551Z
LAST-MODIFIED:20250820T152551Z
UID:8179-1756454400-1756486800@fbcpawtucket.org
SUMMARY:Office Closed
DESCRIPTION:
URL:https://fbcpawtucket.org/event/office-closed-2/
END:VEVENT
BEGIN:VEVENT
DTSTART;TZID=UTC:20250831T100000
DTEND;TZID=UTC:20250831T100000
DTSTAMP:20260425T020535
CREATED:20250708T140750Z
LAST-MODIFIED:20250708T140750Z
UID:8115-1756634400-1756634400@fbcpawtucket.org
SUMMARY:Worship Service
DESCRIPTION:FBC & Rev. Karen East Robinson welcomes you to our Worship Service which begins at 10:00 a.m.  Our parking lot is located at 45 Lyon Street. Come and worship the Lord! Children & Youth Sunday School and Bible Study will resume in September.
URL:https://fbcpawtucket.org/event/worship-service-106/
END:VEVENT
END:VCALENDAR