BEGIN:VCALENDAR
VERSION:2.0
PRODID:-//First Baptist Church of Pawtucket - ECPv6.15.13//NONSGML v1.0//EN
CALSCALE:GREGORIAN
METHOD:PUBLISH
X-WR-CALNAME:First Baptist Church of Pawtucket
X-ORIGINAL-URL:https://fbcpawtucket.org
X-WR-CALDESC:Events for First Baptist Church of Pawtucket
REFRESH-INTERVAL;VALUE=DURATION:PT1H
X-Robots-Tag:noindex
X-PUBLISHED-TTL:PT1H
BEGIN:VTIMEZONE
TZID:UTC
BEGIN:STANDARD
TZOFFSETFROM:+0000
TZOFFSETTO:+0000
TZNAME:UTC
DTSTART:20240101T000000
END:STANDARD
END:VTIMEZONE
BEGIN:VEVENT
DTSTART;TZID=UTC:20250202T100000
DTEND;TZID=UTC:20250202T100000
DTSTAMP:20260425T105346
CREATED:20241218T165700Z
LAST-MODIFIED:20241218T165700Z
UID:7860-1738490400-1738490400@fbcpawtucket.org
SUMMARY:Communion Worship Service
DESCRIPTION:FBC & Rev. Karen East Robinson welcomes you to our Communion worship service beginning at 10:00 a.m.  Our parking lot is located at 45 Lyon Street. Come and worship the Lord! A time of fellowship will follow the worship service.
URL:https://fbcpawtucket.org/event/communion-worship-service-17/
END:VEVENT
BEGIN:VEVENT
DTSTART;TZID=UTC:20250204T190000
DTEND;TZID=UTC:20250204T190000
DTSTAMP:20260425T105346
CREATED:20250124T151127Z
LAST-MODIFIED:20250124T151127Z
UID:7902-1738695600-1738695600@fbcpawtucket.org
SUMMARY:Bible Study
DESCRIPTION:Bible Study in the Parlor tonight at 7:00 p.m. with Rev. Karen East Robinson. All are welcome.
URL:https://fbcpawtucket.org/event/bible-study-93/
END:VEVENT
BEGIN:VEVENT
DTSTART;TZID=UTC:20250209T100000
DTEND;TZID=UTC:20250209T100000
DTSTAMP:20260425T105346
CREATED:20250124T150759Z
LAST-MODIFIED:20250124T150759Z
UID:7895-1739095200-1739095200@fbcpawtucket.org
SUMMARY:Worship Service
DESCRIPTION:FBC & Rev. Karen East Robinson welcomes you to our Sunday worship service beginning at 10:00 a.m.  Our parking lot is located at 45 Lyon Street. Come and worship the Lord! A time of fellowship will follow the worship service.
URL:https://fbcpawtucket.org/event/worship-service-85/
END:VEVENT
BEGIN:VEVENT
DTSTART;TZID=UTC:20250211T190000
DTEND;TZID=UTC:20250211T190000
DTSTAMP:20260425T105346
CREATED:20250124T151242Z
LAST-MODIFIED:20250124T151341Z
UID:7904-1739300400-1739300400@fbcpawtucket.org
SUMMARY:Bible Study
DESCRIPTION:Bible Study in the Parlor tonight at 7:00 p.m. with Rev. Karen East Robinson. All are welcome.
URL:https://fbcpawtucket.org/event/bibles-study/
END:VEVENT
BEGIN:VEVENT
DTSTART;TZID=UTC:20250212T183000
DTEND;TZID=UTC:20250212T183000
DTSTAMP:20260425T105346
CREATED:20250124T150534Z
LAST-MODIFIED:20250124T150534Z
UID:7891-1739385000-1739385000@fbcpawtucket.org
SUMMARY:Board of Governors
DESCRIPTION:
URL:https://fbcpawtucket.org/event/board-of-governors-15/
END:VEVENT
BEGIN:VEVENT
DTSTART;TZID=UTC:20250216T100000
DTEND;TZID=UTC:20250216T100000
DTSTAMP:20260425T105346
CREATED:20250124T150911Z
LAST-MODIFIED:20250124T150911Z
UID:7897-1739700000-1739700000@fbcpawtucket.org
SUMMARY:Worship Service
DESCRIPTION:FBC & Rev. Karen East Robinson welcomes you to our Sunday worship service beginning at 10:00 a.m.  Our parking lot is located at 45 Lyon Street. Come and worship the Lord! A time of fellowship will follow the worship service.
URL:https://fbcpawtucket.org/event/worship-service-86/
END:VEVENT
BEGIN:VEVENT
DTSTART;VALUE=DATE:20250217
DTEND;VALUE=DATE:20250218
DTSTAMP:20260425T105346
CREATED:20250124T151607Z
LAST-MODIFIED:20250124T151703Z
UID:7911-1739750400-1739836799@fbcpawtucket.org
SUMMARY:Presidents Day
DESCRIPTION:Office Closed
URL:https://fbcpawtucket.org/event/presidents-day-5/
END:VEVENT
BEGIN:VEVENT
DTSTART;TZID=UTC:20250218T190000
DTEND;TZID=UTC:20250218T190000
DTSTAMP:20260425T105346
CREATED:20250124T151442Z
LAST-MODIFIED:20250124T151442Z
UID:7907-1739905200-1739905200@fbcpawtucket.org
SUMMARY:Bible Study
DESCRIPTION:Bible Study in the Parlor tonight at 7:00 p.m. with Rev. Karen East Robinson. All are welcome.
URL:https://fbcpawtucket.org/event/bible-study-94/
END:VEVENT
BEGIN:VEVENT
DTSTART;TZID=UTC:20250222T090000
DTEND;TZID=UTC:20250222T120000
DTSTAMP:20260425T105346
CREATED:20250124T150327Z
LAST-MODIFIED:20250207T161644Z
UID:7889-1740214800-1740225600@fbcpawtucket.org
SUMMARY:FBC Food Pantry
DESCRIPTION:FBC’s Food Pantry is held once a month\, on a Saturday\, from 9AM until Noon.  If you are coming to the Food Pantry\, practice social distancing and if you are sick\, stay home.  Please bring your own reusable bags. FBC parking and entrance located at 45 Lyon Street.
URL:https://fbcpawtucket.org/event/fbc-food-pantry-11/
END:VEVENT
BEGIN:VEVENT
DTSTART;TZID=UTC:20250223T100000
DTEND;TZID=UTC:20250223T100000
DTSTAMP:20260425T105346
CREATED:20250124T151002Z
LAST-MODIFIED:20250124T151002Z
UID:7899-1740304800-1740304800@fbcpawtucket.org
SUMMARY:Worship Service
DESCRIPTION:FBC & Rev. Karen East Robinson welcomes you to our Sunday worship service beginning at 10:00 a.m.  Our parking lot is located at 45 Lyon Street. Come and worship the Lord! A time of fellowship will follow the worship service.
URL:https://fbcpawtucket.org/event/worship-service-87/
END:VEVENT
BEGIN:VEVENT
DTSTART;TZID=UTC:20250225T190000
DTEND;TZID=UTC:20250225T190000
DTSTAMP:20260425T105346
CREATED:20250124T151531Z
LAST-MODIFIED:20250124T151531Z
UID:7909-1740510000-1740510000@fbcpawtucket.org
SUMMARY:Bible Study
DESCRIPTION:Bible Study in the Parlor tonight at 7:00 p.m. with Rev. Karen East Robinson. All are welcome.
URL:https://fbcpawtucket.org/event/bible-study-95/
END:VEVENT
END:VCALENDAR