BEGIN:VCALENDAR
VERSION:2.0
PRODID:-//First Baptist Church of Pawtucket - ECPv6.15.13//NONSGML v1.0//EN
CALSCALE:GREGORIAN
METHOD:PUBLISH
X-ORIGINAL-URL:https://fbcpawtucket.org
X-WR-CALDESC:Events for First Baptist Church of Pawtucket
REFRESH-INTERVAL;VALUE=DURATION:PT1H
X-Robots-Tag:noindex
X-PUBLISHED-TTL:PT1H
BEGIN:VTIMEZONE
TZID:UTC
BEGIN:STANDARD
TZOFFSETFROM:+0000
TZOFFSETTO:+0000
TZNAME:UTC
DTSTART:20230101T000000
END:STANDARD
END:VTIMEZONE
BEGIN:VEVENT
DTSTART;TZID=UTC:20241201T100000
DTEND;TZID=UTC:20241201T100000
DTSTAMP:20260425T141147
CREATED:20241022T160542Z
LAST-MODIFIED:20241022T160542Z
UID:7786-1733047200-1733047200@fbcpawtucket.org
SUMMARY:Advent Begins with a Communion Service
DESCRIPTION:FBC & Rev. Karen East Robinson welcomes you\, on this 1st Sunday of Advent\, to our Communion worship service beginning at 10:00 a.m.  Our parking lot is located at 45 Lyon Street. Come and worship the Lord! A time of fellowship will follow the worship service.
URL:https://fbcpawtucket.org/event/advent-begins-with-a-communion-service/
END:VEVENT
BEGIN:VEVENT
DTSTART;TZID=UTC:20241203T190000
DTEND;TZID=UTC:20241203T190000
DTSTAMP:20260425T141147
CREATED:20241022T155756Z
LAST-MODIFIED:20241022T155756Z
UID:7778-1733252400-1733252400@fbcpawtucket.org
SUMMARY:Bible Study
DESCRIPTION:Bible Study in the Parlor tonight at 7:00 p.m. with Rev. Karen East Robinson. All are welcome.
URL:https://fbcpawtucket.org/event/bible-study-86/
END:VEVENT
BEGIN:VEVENT
DTSTART;TZID=UTC:20241208T100000
DTEND;TZID=UTC:20241208T100000
DTSTAMP:20260425T141147
CREATED:20241022T160712Z
LAST-MODIFIED:20241022T162110Z
UID:7788-1733652000-1733652000@fbcpawtucket.org
SUMMARY:2nd Sunday of Advent Worship Service
DESCRIPTION:FBC & Rev. Karen East Robinson welcomes you to our worship service which begins at 10:00 a.m.  Our parking lot is located at 45 Lyon Street. Sunday School for the youth has begun. Come and worship the Lord! A time of fellowship will follow the worship service.
URL:https://fbcpawtucket.org/event/2nd-sunday-of-advent-worship-service/
END:VEVENT
BEGIN:VEVENT
DTSTART;TZID=UTC:20241210T190000
DTEND;TZID=UTC:20241210T190000
DTSTAMP:20260425T141147
CREATED:20241218T164914Z
LAST-MODIFIED:20241218T164914Z
UID:7842-1733857200-1733857200@fbcpawtucket.org
SUMMARY:Bible Study
DESCRIPTION:Bible Study in the Parlor tonight at 7:00 p.m. with Rev. Karen East Robinson. All are welcome.
URL:https://fbcpawtucket.org/event/bible-study-87/
END:VEVENT
BEGIN:VEVENT
DTSTART;TZID=UTC:20241215T100000
DTEND;TZID=UTC:20241215T100000
DTSTAMP:20260425T141147
CREATED:20241022T160842Z
LAST-MODIFIED:20241022T162053Z
UID:7790-1734256800-1734256800@fbcpawtucket.org
SUMMARY:3rd Sunday of Advent Worship Service
DESCRIPTION:FBC & Rev. Karen East Robinson welcomes you to our 3rd Advent Sunday worship service & Sunday School Celebration which begins at 10:00 a.m.  Our parking lot is located at 45 Lyon Street. Sunday School for the youth has begun. Come and worship the Lord! A time of fellowship will follow the worship service.
URL:https://fbcpawtucket.org/event/3rd-sunday-of-advent-worship-service/
END:VEVENT
BEGIN:VEVENT
DTSTART;TZID=UTC:20241217T190000
DTEND;TZID=UTC:20241217T190000
DTSTAMP:20260425T141147
CREATED:20241218T164956Z
LAST-MODIFIED:20241218T164956Z
UID:7844-1734462000-1734462000@fbcpawtucket.org
SUMMARY:Bible Study
DESCRIPTION:Bible Study in the Parlor tonight at 7:00 p.m. with Rev. Karen East Robinson. All are welcome.
URL:https://fbcpawtucket.org/event/bible-study-88/
END:VEVENT
BEGIN:VEVENT
DTSTART;TZID=UTC:20241218T183000
DTEND;TZID=UTC:20241218T183000
DTSTAMP:20260425T141147
CREATED:20241022T160017Z
LAST-MODIFIED:20241218T164735Z
UID:7782-1734546600-1734546600@fbcpawtucket.org
SUMMARY:Board of Governors
DESCRIPTION:Meets tonight at 6:30 p.m.
URL:https://fbcpawtucket.org/event/board-of-governors-14/
END:VEVENT
BEGIN:VEVENT
DTSTART;TZID=UTC:20241221T090000
DTEND;TZID=UTC:20241221T120000
DTSTAMP:20260425T141147
CREATED:20241022T145902Z
LAST-MODIFIED:20241022T145902Z
UID:7762-1734771600-1734782400@fbcpawtucket.org
SUMMARY:Food Pantry Open
DESCRIPTION:FBC’s Food Pantry is held once a month\, on a Saturday\, from 9AM until Noon.  If you are coming to the Food Pantry\, practice social distancing and if you are sick\, stay home.  Please bring your own reusable bags. FBC parking and entrance located at 45 Lyon Street.
URL:https://fbcpawtucket.org/event/food-pantry-open-6/
END:VEVENT
BEGIN:VEVENT
DTSTART;TZID=UTC:20241222T100000
DTEND;TZID=UTC:20241222T100000
DTSTAMP:20260425T141147
CREATED:20241022T160931Z
LAST-MODIFIED:20241022T162033Z
UID:7792-1734861600-1734861600@fbcpawtucket.org
SUMMARY:Christmas Sunday
DESCRIPTION:FBC & Rev. Karen East Robinson welcomes you to our Christmas Sunday worship service which begins at 10:00 a.m.  Our parking lot is located at 45 Lyon Street. Sunday School for the youth has begun. Come and worship the Lord! A time of fellowship will follow the worship service.
URL:https://fbcpawtucket.org/event/christmas-sunday/
END:VEVENT
BEGIN:VEVENT
DTSTART;VALUE=DATE:20241224
DTEND;VALUE=DATE:20241225
DTSTAMP:20260425T141147
CREATED:20241218T165050Z
LAST-MODIFIED:20241218T165050Z
UID:7846-1734998400-1735084799@fbcpawtucket.org
SUMMARY:No Bible Study tonight
DESCRIPTION:
URL:https://fbcpawtucket.org/event/no-bible-study-tonight-2/
END:VEVENT
BEGIN:VEVENT
DTSTART;VALUE=DATE:20241225
DTEND;VALUE=DATE:20241226
DTSTAMP:20260425T141147
CREATED:20241022T161018Z
LAST-MODIFIED:20241022T161337Z
UID:7794-1735084800-1735171199@fbcpawtucket.org
SUMMARY:Happy Birthday Jesus!
DESCRIPTION:
URL:https://fbcpawtucket.org/event/christmas-day-happy-birthday-jesus-5/
END:VEVENT
BEGIN:VEVENT
DTSTART;VALUE=DATE:20241225
DTEND;VALUE=DATE:20241226
DTSTAMP:20260425T141147
CREATED:20241022T161401Z
LAST-MODIFIED:20241022T161449Z
UID:7800-1735084800-1735171199@fbcpawtucket.org
SUMMARY:Christmas Day
DESCRIPTION:Office is closed
URL:https://fbcpawtucket.org/event/christmas-day-2/
END:VEVENT
BEGIN:VEVENT
DTSTART;TZID=UTC:20241229T100000
DTEND;TZID=UTC:20241229T100000
DTSTAMP:20260425T141147
CREATED:20241022T161653Z
LAST-MODIFIED:20241022T161653Z
UID:7806-1735466400-1735466400@fbcpawtucket.org
SUMMARY:Worship Service
DESCRIPTION:FBC & Rev. Karen East Robinson welcomes you to our worship service which begins at 10:00 a.m.  Our parking lot is located at 45 Lyon Street. Sunday School for the youth has begun. Come and worship the Lord! A time of fellowship will follow the worship service.
URL:https://fbcpawtucket.org/event/worship-service-81/
END:VEVENT
BEGIN:VEVENT
DTSTART;TZID=UTC:20241231T080000
DTEND;TZID=UTC:20241231T170000
DTSTAMP:20260425T141147
CREATED:20241218T165125Z
LAST-MODIFIED:20241218T165125Z
UID:7848-1735632000-1735664400@fbcpawtucket.org
SUMMARY:No Bible Study tonight
DESCRIPTION:
URL:https://fbcpawtucket.org/event/no-bible-study-tonight-3/
END:VEVENT
BEGIN:VEVENT
DTSTART;TZID=UTC:20241231T190000
DTEND;TZID=UTC:20241231T233000
DTSTAMP:20260425T141147
CREATED:20241022T161148Z
LAST-MODIFIED:20241022T161220Z
UID:7796-1735671600-1735687800@fbcpawtucket.org
SUMMARY:New Year’s Eve
DESCRIPTION:
URL:https://fbcpawtucket.org/event/new-years-eve-3/
END:VEVENT
END:VCALENDAR