BEGIN:VCALENDAR
VERSION:2.0
PRODID:-//First Baptist Church of Pawtucket - ECPv6.15.13//NONSGML v1.0//EN
CALSCALE:GREGORIAN
METHOD:PUBLISH
X-WR-CALNAME:First Baptist Church of Pawtucket
X-ORIGINAL-URL:https://fbcpawtucket.org
X-WR-CALDESC:Events for First Baptist Church of Pawtucket
REFRESH-INTERVAL;VALUE=DURATION:PT1H
X-Robots-Tag:noindex
X-PUBLISHED-TTL:PT1H
BEGIN:VTIMEZONE
TZID:UTC
BEGIN:STANDARD
TZOFFSETFROM:+0000
TZOFFSETTO:+0000
TZNAME:UTC
DTSTART:20230101T000000
END:STANDARD
END:VTIMEZONE
BEGIN:VEVENT
DTSTART;TZID=UTC:20241103T100000
DTEND;TZID=UTC:20241103T100000
DTSTAMP:20260425T153154
CREATED:20240830T154657Z
LAST-MODIFIED:20240830T154657Z
UID:7696-1730628000-1730628000@fbcpawtucket.org
SUMMARY:Communion Worship Service
DESCRIPTION:FBC & Rev. Karen East Robinson welcomes you to our Communion worship service beginning at 10:00 a.m.  Our parking lot is located at 45 Lyon Street. Come and worship the Lord! A time of fellowship will follow the worship service.
URL:https://fbcpawtucket.org/event/communion-worship-service-15/
END:VEVENT
BEGIN:VEVENT
DTSTART;VALUE=DATE:20241105
DTEND;VALUE=DATE:20241106
DTSTAMP:20260425T153154
CREATED:20241022T151546Z
LAST-MODIFIED:20241022T151546Z
UID:7770-1730764800-1730851199@fbcpawtucket.org
SUMMARY:Election Day
DESCRIPTION:
URL:https://fbcpawtucket.org/event/election-day-3/
END:VEVENT
BEGIN:VEVENT
DTSTART;TZID=UTC:20241105T190000
DTEND;TZID=UTC:20241105T190000
DTSTAMP:20260425T153154
CREATED:20241022T151517Z
LAST-MODIFIED:20241022T151517Z
UID:7768-1730833200-1730833200@fbcpawtucket.org
SUMMARY:Bible Study
DESCRIPTION:Bible Study in the Parlor tonight at 7:00 p.m. with Rev. Karen East Robinson. All are welcome.
URL:https://fbcpawtucket.org/event/bible-study-82/
END:VEVENT
BEGIN:VEVENT
DTSTART;TZID=UTC:20241110T100000
DTEND;TZID=UTC:20241110T100000
DTSTAMP:20260425T153154
CREATED:20241022T145346Z
LAST-MODIFIED:20241022T161956Z
UID:7752-1731232800-1731232800@fbcpawtucket.org
SUMMARY:Worship Service
DESCRIPTION:FBC & Rev. Karen East Robinson welcomes you to our worship service which begins at 10:00 a.m.  Our parking lot is located at 45 Lyon Street. Sunday School for the youth has begun. Come and worship the Lord! A time of fellowship will follow the worship service.
URL:https://fbcpawtucket.org/event/worship-service-79/
END:VEVENT
BEGIN:VEVENT
DTSTART;TZID=UTC:20241112T190000
DTEND;TZID=UTC:20241112T190000
DTSTAMP:20260425T153154
CREATED:20241022T155601Z
LAST-MODIFIED:20241022T155601Z
UID:7772-1731438000-1731438000@fbcpawtucket.org
SUMMARY:Bible Study
DESCRIPTION:Bible Study in the Parlor tonight at 7:00 p.m. with Rev. Karen East Robinson. All are welcome.
URL:https://fbcpawtucket.org/event/bible-study-83/
END:VEVENT
BEGIN:VEVENT
DTSTART;TZID=UTC:20241113T183000
DTEND;TZID=UTC:20241113T183000
DTSTAMP:20260425T153154
CREATED:20241022T155943Z
LAST-MODIFIED:20241022T155943Z
UID:7780-1731522600-1731522600@fbcpawtucket.org
SUMMARY:Board of Governors
DESCRIPTION:Meets tonight at 6:30 p.m.
URL:https://fbcpawtucket.org/event/board-of-governors-13/
END:VEVENT
BEGIN:VEVENT
DTSTART;TZID=UTC:20241116T090000
DTEND;TZID=UTC:20241116T120000
DTSTAMP:20260425T153154
CREATED:20241022T145818Z
LAST-MODIFIED:20241022T145818Z
UID:7760-1731747600-1731758400@fbcpawtucket.org
SUMMARY:Food Pantry Open
DESCRIPTION:FBC’s Food Pantry is held once a month\, on a Saturday\, from 9AM until Noon.  If you are coming to the Food Pantry\, practice social distancing and if you are sick\, stay home.  We do not distribute turkeys. Please bring your own reusable bags. FBC parking and entrance located at 45 Lyon Street.
URL:https://fbcpawtucket.org/event/food-pantry-open-5/
END:VEVENT
BEGIN:VEVENT
DTSTART;TZID=UTC:20241117T100000
DTEND;TZID=UTC:20241117T100000
DTSTAMP:20260425T153154
CREATED:20241022T145423Z
LAST-MODIFIED:20241022T161614Z
UID:7754-1731837600-1731837600@fbcpawtucket.org
SUMMARY:Worship Service
DESCRIPTION:FBC & Rev. Karen East Robinson welcomes you to our worship service which begins at 10:00 a.m.  Our parking lot is located at 45 Lyon Street. Sunday School for the youth has begun. Come and worship the Lord! A time of fellowship will follow the worship service.
URL:https://fbcpawtucket.org/event/worship-service-80/
END:VEVENT
BEGIN:VEVENT
DTSTART;TZID=UTC:20241119T190000
DTEND;TZID=UTC:20241119T190000
DTSTAMP:20260425T153154
CREATED:20241022T155641Z
LAST-MODIFIED:20241022T155641Z
UID:7774-1732042800-1732042800@fbcpawtucket.org
SUMMARY:Bible Study
DESCRIPTION:Bible Study in the Parlor tonight at 7:00 p.m. with Rev. Karen East Robinson. All are welcome.
URL:https://fbcpawtucket.org/event/bible-study-84/
END:VEVENT
BEGIN:VEVENT
DTSTART;TZID=UTC:20241124T100000
DTEND;TZID=UTC:20241124T100000
DTSTAMP:20260425T153154
CREATED:20241022T145507Z
LAST-MODIFIED:20241022T162150Z
UID:7756-1732442400-1732442400@fbcpawtucket.org
SUMMARY:Thanksgiving Worship Service
DESCRIPTION:FBC & Rev. Karen East Robinson welcomes you to our Thanksgiving worship service which begins at 10:00 a.m.  Our parking lot is located at 45 Lyon Street. Sunday School for the youth has begun. Come and worship the Lord! A time of fellowship will follow the worship service.
URL:https://fbcpawtucket.org/event/thanksgiving-worship-service/
END:VEVENT
BEGIN:VEVENT
DTSTART;TZID=UTC:20241126T190000
DTEND;TZID=UTC:20241126T190000
DTSTAMP:20260425T153154
CREATED:20241022T155721Z
LAST-MODIFIED:20241022T155721Z
UID:7776-1732647600-1732647600@fbcpawtucket.org
SUMMARY:Bible Study
DESCRIPTION:Bible Study in the Parlor tonight at 7:00 p.m. with Rev. Karen East Robinson. All are welcome.
URL:https://fbcpawtucket.org/event/bible-study-85/
END:VEVENT
BEGIN:VEVENT
DTSTART;VALUE=DATE:20241128
DTEND;VALUE=DATE:20241129
DTSTAMP:20260425T153154
CREATED:20241022T160246Z
LAST-MODIFIED:20241022T160246Z
UID:7784-1732752000-1732838399@fbcpawtucket.org
SUMMARY:Thanksgiving Day
DESCRIPTION:
URL:https://fbcpawtucket.org/event/thanksgiving-day-3/
END:VEVENT
END:VCALENDAR