BEGIN:VCALENDAR
VERSION:2.0
PRODID:-//First Baptist Church of Pawtucket - ECPv6.15.13//NONSGML v1.0//EN
CALSCALE:GREGORIAN
METHOD:PUBLISH
X-WR-CALNAME:First Baptist Church of Pawtucket
X-ORIGINAL-URL:https://fbcpawtucket.org
X-WR-CALDESC:Events for First Baptist Church of Pawtucket
REFRESH-INTERVAL;VALUE=DURATION:PT1H
X-Robots-Tag:noindex
X-PUBLISHED-TTL:PT1H
BEGIN:VTIMEZONE
TZID:UTC
BEGIN:STANDARD
TZOFFSETFROM:+0000
TZOFFSETTO:+0000
TZNAME:UTC
DTSTART:20230101T000000
END:STANDARD
END:VTIMEZONE
BEGIN:VEVENT
DTSTART;TZID=UTC:20241001T190000
DTEND;TZID=UTC:20241001T190000
DTSTAMP:20260425T170651
CREATED:20240830T160034Z
LAST-MODIFIED:20240830T160034Z
UID:7717-1727809200-1727809200@fbcpawtucket.org
SUMMARY:Bible Study
DESCRIPTION:Bible Study in the Parlor tonight at 7:00 p.m. with Rev. Karen East Robinson. All are welcome.
URL:https://fbcpawtucket.org/event/bible-study-79/
END:VEVENT
BEGIN:VEVENT
DTSTART;TZID=UTC:20241006T100000
DTEND;TZID=UTC:20241006T100000
DTSTAMP:20260425T170651
CREATED:20240830T154601Z
LAST-MODIFIED:20240830T154601Z
UID:7694-1728208800-1728208800@fbcpawtucket.org
SUMMARY:Communion Worship Service
DESCRIPTION:FBC & Rev. Karen East Robinson welcomes you to our Communion worship service beginning at 10:00 a.m.  Our parking lot is located at 45 Lyon Street. Come and worship the Lord! A time of fellowship will follow the worship service.
URL:https://fbcpawtucket.org/event/communion-worship-service-14/
END:VEVENT
BEGIN:VEVENT
DTSTART;TZID=UTC:20241013T100000
DTEND;TZID=UTC:20241013T100000
DTSTAMP:20260425T170651
CREATED:20241022T145120Z
LAST-MODIFIED:20241022T161813Z
UID:7746-1728813600-1728813600@fbcpawtucket.org
SUMMARY:Worship Service
DESCRIPTION:FBC & Rev. Karen East Robinson welcomes you to our worship service which begins at 10:00 a.m.  Our parking lot is located at 45 Lyon Street. Sunday School for the youth has begun. Come and worship the Lord! A time of fellowship will follow the worship service.
URL:https://fbcpawtucket.org/event/worship-service-76/
END:VEVENT
BEGIN:VEVENT
DTSTART;TZID=UTC:20241019T090000
DTEND;TZID=UTC:20241019T120000
DTSTAMP:20260425T170651
CREATED:20241022T145716Z
LAST-MODIFIED:20241022T145716Z
UID:7758-1729328400-1729339200@fbcpawtucket.org
SUMMARY:Food Pantry Open
DESCRIPTION:FBC’s Food Pantry is held once a month\, on a Saturday\, from 9AM until Noon.  If you are coming to the Food Pantry\, practice social distancing and if you are sick\, stay home.  Please bring your own reusable bags. FBC parking and entrance located at 45 Lyon Street.
URL:https://fbcpawtucket.org/event/food-pantry-open-4/
END:VEVENT
BEGIN:VEVENT
DTSTART;TZID=UTC:20241020T100000
DTEND;TZID=UTC:20241020T100000
DTSTAMP:20260425T170651
CREATED:20241022T145147Z
LAST-MODIFIED:20241022T161841Z
UID:7748-1729418400-1729418400@fbcpawtucket.org
SUMMARY:Worship Service
DESCRIPTION:FBC & Rev. Karen East Robinson welcomes you to our worship service which begins at 10:00 a.m.  Our parking lot is located at 45 Lyon Street. Sunday School for the youth has begun. Come and worship the Lord! A time of fellowship will follow the worship service.
URL:https://fbcpawtucket.org/event/worship-service-77/
END:VEVENT
BEGIN:VEVENT
DTSTART;TZID=UTC:20241022T190000
DTEND;TZID=UTC:20241022T190000
DTSTAMP:20260425T170651
CREATED:20241022T151415Z
LAST-MODIFIED:20241022T151415Z
UID:7764-1729623600-1729623600@fbcpawtucket.org
SUMMARY:Bible Study
DESCRIPTION:Bible Study in the Parlor tonight at 7:00 p.m. with Rev. Karen East Robinson. All are welcome.
URL:https://fbcpawtucket.org/event/bible-study-80/
END:VEVENT
BEGIN:VEVENT
DTSTART;TZID=UTC:20241027T100000
DTEND;TZID=UTC:20241027T100000
DTSTAMP:20260425T170651
CREATED:20241022T145222Z
LAST-MODIFIED:20241022T161903Z
UID:7750-1730023200-1730023200@fbcpawtucket.org
SUMMARY:Worship Service
DESCRIPTION:FBC & Rev. Karen East Robinson welcomes you to our worship service which begins at 10:00 a.m.  Our parking lot is located at 45 Lyon Street. Sunday School for the youth has begun. Come and worship the Lord! A time of fellowship will follow the worship service.
URL:https://fbcpawtucket.org/event/worship-service-78/
END:VEVENT
BEGIN:VEVENT
DTSTART;TZID=UTC:20241029T190000
DTEND;TZID=UTC:20241029T190000
DTSTAMP:20260425T170651
CREATED:20241022T151444Z
LAST-MODIFIED:20241022T151444Z
UID:7766-1730228400-1730228400@fbcpawtucket.org
SUMMARY:Bible Study
DESCRIPTION:Bible Study in the Parlor tonight at 7:00 p.m. with Rev. Karen East Robinson. All are welcome.
URL:https://fbcpawtucket.org/event/bible-study-81/
END:VEVENT
END:VCALENDAR