BEGIN:VCALENDAR
VERSION:2.0
PRODID:-//First Baptist Church of Pawtucket - ECPv6.15.13//NONSGML v1.0//EN
CALSCALE:GREGORIAN
METHOD:PUBLISH
X-ORIGINAL-URL:https://fbcpawtucket.org
X-WR-CALDESC:Events for First Baptist Church of Pawtucket
REFRESH-INTERVAL;VALUE=DURATION:PT1H
X-Robots-Tag:noindex
X-PUBLISHED-TTL:PT1H
BEGIN:VTIMEZONE
TZID:UTC
BEGIN:STANDARD
TZOFFSETFROM:+0000
TZOFFSETTO:+0000
TZNAME:UTC
DTSTART:20230101T000000
END:STANDARD
END:VTIMEZONE
BEGIN:VEVENT
DTSTART;TZID=UTC:20240505T100000
DTEND;TZID=UTC:20240505T100000
DTSTAMP:20260426T003945
CREATED:20240423T153755Z
LAST-MODIFIED:20240423T153755Z
UID:7509-1714903200-1714903200@fbcpawtucket.org
SUMMARY:Communion Worship Service
DESCRIPTION:FBC & Rev. Karen East Robinson welcomes you to our Communion worship service beginning at 10:00 a.m.  Our parking lot is located at 45 Lyon Street. Come and worship the Lord! A time of fellowship will follow the worship service.
URL:https://fbcpawtucket.org/event/communion-worship-service-10/
END:VEVENT
BEGIN:VEVENT
DTSTART;TZID=UTC:20240505T104500
DTEND;TZID=UTC:20240505T113000
DTSTAMP:20260426T003945
CREATED:20240423T153713Z
LAST-MODIFIED:20240423T153713Z
UID:7507-1714905900-1714908600@fbcpawtucket.org
SUMMARY:Annual Meeting
DESCRIPTION:Will immediately follow the morning worship service. Annual Reports are available.
URL:https://fbcpawtucket.org/event/annual-meeting/
END:VEVENT
BEGIN:VEVENT
DTSTART;TZID=UTC:20240507T190000
DTEND;TZID=UTC:20240507T190000
DTSTAMP:20260426T003945
CREATED:20240423T155223Z
LAST-MODIFIED:20240423T155223Z
UID:7532-1715108400-1715108400@fbcpawtucket.org
SUMMARY:Bible Study
DESCRIPTION:Bible study begins at 7:00 p.m. with Rev. Karen East Robinson\, in the church parlor.
URL:https://fbcpawtucket.org/event/bible-study-68/
END:VEVENT
BEGIN:VEVENT
DTSTART;TZID=UTC:20240508T183000
DTEND;TZID=UTC:20240508T183000
DTSTAMP:20260426T003945
CREATED:20240423T153938Z
LAST-MODIFIED:20240423T153938Z
UID:7511-1715193000-1715193000@fbcpawtucket.org
SUMMARY:Board of Governors Meeting
DESCRIPTION:
URL:https://fbcpawtucket.org/event/board-of-governors-meeting-17/
END:VEVENT
BEGIN:VEVENT
DTSTART;TZID=UTC:20240512T100000
DTEND;TZID=UTC:20240512T110000
DTSTAMP:20260426T003945
CREATED:20240423T154747Z
LAST-MODIFIED:20240423T154747Z
UID:7521-1715508000-1715511600@fbcpawtucket.org
SUMMARY:Worship Service
DESCRIPTION:FBC & Rev. Karen East Robinson welcomes you to our worship service & Sunday School beginning at 10:00 a.m.  Our parking lot is located at 45 Lyon Street. Come and worship the Lord! A time of fellowship follows the service.
URL:https://fbcpawtucket.org/event/worship-service-64/
END:VEVENT
BEGIN:VEVENT
DTSTART;TZID=UTC:20240514T190000
DTEND;TZID=UTC:20240514T190000
DTSTAMP:20260426T003945
CREATED:20240423T155312Z
LAST-MODIFIED:20240423T155312Z
UID:7534-1715713200-1715713200@fbcpawtucket.org
SUMMARY:Bible Study
DESCRIPTION:Bible study begins at 7:00 p.m. with Rev. Karen East Robinson\, in the church parlor.
URL:https://fbcpawtucket.org/event/bible-study-69/
END:VEVENT
BEGIN:VEVENT
DTSTART;TZID=UTC:20240515T100000
DTEND;TZID=UTC:20240515T100000
DTSTAMP:20260426T003945
CREATED:20240515T154838Z
LAST-MODIFIED:20240515T154838Z
UID:7606-1715767200-1715767200@fbcpawtucket.org
SUMMARY:Worship Service
DESCRIPTION:FBC & Rev. Karen East Robinson welcomes you to our worship service & Sunday School beginning at 10:00 a.m.  Our parking lot is located at 45 Lyon Street. Come and worship the Lord! A time of fellowship follows the service.
URL:https://fbcpawtucket.org/event/worship-service-67/
END:VEVENT
BEGIN:VEVENT
DTSTART;TZID=UTC:20240518T090000
DTEND;TZID=UTC:20240518T120000
DTSTAMP:20260426T003945
CREATED:20240423T154427Z
LAST-MODIFIED:20240423T154427Z
UID:7517-1716022800-1716033600@fbcpawtucket.org
SUMMARY:FBC Food Pantry
DESCRIPTION:FBC’s Food Pantry is held once  a month\, on a Saturday\, from 9AM until Noon.  If you are coming to the Food Pantry\, practice social distancing and if you are sick\, stay home.  Please bring your own reusable bags. FBC parking and entrance located at 45 Lyon Street.
URL:https://fbcpawtucket.org/event/fbc-food-pantry-9/
END:VEVENT
BEGIN:VEVENT
DTSTART;TZID=UTC:20240519T100000
DTEND;TZID=UTC:20240519T110000
DTSTAMP:20260426T003945
CREATED:20240423T154848Z
LAST-MODIFIED:20240515T153451Z
UID:7523-1716112800-1716116400@fbcpawtucket.org
SUMMARY:Pentecost Worship Service
DESCRIPTION:FBC & Rev. Karen East Robinson welcomes you to our worship service & Sunday School beginning at 10:00 a.m.  The ‘Preacher of the Hour’ will be minister Darryl Robinson. Our parking lot is located at 45 Lyon Street. Come and worship the Lord! A time of fellowship follows the service.
URL:https://fbcpawtucket.org/event/pentecost-worship-service-2/
END:VEVENT
BEGIN:VEVENT
DTSTART;TZID=UTC:20240521T190000
DTEND;TZID=UTC:20240521T190000
DTSTAMP:20260426T003945
CREATED:20240423T155345Z
LAST-MODIFIED:20240423T155345Z
UID:7536-1716318000-1716318000@fbcpawtucket.org
SUMMARY:Bible Study
DESCRIPTION:Bible study begins at 7:00 p.m. with Rev. Karen East Robinson\, in the church parlor.
URL:https://fbcpawtucket.org/event/bible-study-70/
END:VEVENT
BEGIN:VEVENT
DTSTART;TZID=UTC:20240526T100000
DTEND;TZID=UTC:20240526T100000
DTSTAMP:20260426T003945
CREATED:20240423T154932Z
LAST-MODIFIED:20240423T154932Z
UID:7525-1716717600-1716717600@fbcpawtucket.org
SUMMARY:Worship Service
DESCRIPTION:FBC & Rev. Karen East Robinson welcomes you to our worship service & Sunday School beginning at 10:00 a.m.  Our parking lot is located at 45 Lyon Street. Come and worship the Lord! A time of fellowship follows the service.
URL:https://fbcpawtucket.org/event/worship-service-65/
END:VEVENT
BEGIN:VEVENT
DTSTART;VALUE=DATE:20240527
DTEND;VALUE=DATE:20240528
DTSTAMP:20260426T003945
CREATED:20240423T155520Z
LAST-MODIFIED:20240423T155520Z
UID:7540-1716768000-1716854399@fbcpawtucket.org
SUMMARY:Memorial Day Holiday
DESCRIPTION:
URL:https://fbcpawtucket.org/event/memorial-day-holiday-2/
END:VEVENT
BEGIN:VEVENT
DTSTART;TZID=UTC:20240528T190000
DTEND;TZID=UTC:20240528T190000
DTSTAMP:20260426T003945
CREATED:20240423T155410Z
LAST-MODIFIED:20240423T155410Z
UID:7538-1716922800-1716922800@fbcpawtucket.org
SUMMARY:Bible Study
DESCRIPTION:Bible study begins at 7:00 p.m. with Rev. Karen East Robinson\, in the church parlor.
URL:https://fbcpawtucket.org/event/bible-study-71/
END:VEVENT
END:VCALENDAR