BEGIN:VCALENDAR
VERSION:2.0
PRODID:-//First Baptist Church of Pawtucket - ECPv6.15.13//NONSGML v1.0//EN
CALSCALE:GREGORIAN
METHOD:PUBLISH
X-ORIGINAL-URL:https://fbcpawtucket.org
X-WR-CALDESC:Events for First Baptist Church of Pawtucket
REFRESH-INTERVAL;VALUE=DURATION:PT1H
X-Robots-Tag:noindex
X-PUBLISHED-TTL:PT1H
BEGIN:VTIMEZONE
TZID:UTC
BEGIN:STANDARD
TZOFFSETFROM:+0000
TZOFFSETTO:+0000
TZNAME:UTC
DTSTART:20230101T000000
END:STANDARD
END:VTIMEZONE
BEGIN:VEVENT
DTSTART;TZID=UTC:20240410T180000
DTEND;TZID=UTC:20240410T180000
DTSTAMP:20260426T015430
CREATED:20240423T154021Z
LAST-MODIFIED:20240423T154021Z
UID:7513-1712772000-1712772000@fbcpawtucket.org
SUMMARY:Board of Governors Meeting
DESCRIPTION:
URL:https://fbcpawtucket.org/event/board-of-governors-meeting-18/
END:VEVENT
BEGIN:VEVENT
DTSTART;TZID=UTC:20240420T090000
DTEND;TZID=UTC:20240420T120000
DTSTAMP:20260426T015430
CREATED:20240423T154234Z
LAST-MODIFIED:20240423T154234Z
UID:7515-1713603600-1713614400@fbcpawtucket.org
SUMMARY:FBC Food Pantry
DESCRIPTION:FBC’s Food Pantry is held one Saturday a month\, 9AM until Noon.  If you are coming to the Food Pantry\,  practice social distancing and if you are sick\, stay home.  Please bring your own reusable bags. FBC parking and entrance located at 45 Lyon Street.
URL:https://fbcpawtucket.org/event/fbc-food-pantry-8/
END:VEVENT
BEGIN:VEVENT
DTSTART;TZID=UTC:20240423T190000
DTEND;TZID=UTC:20240423T190000
DTSTAMP:20260426T015430
CREATED:20240423T155053Z
LAST-MODIFIED:20240423T155053Z
UID:7528-1713898800-1713898800@fbcpawtucket.org
SUMMARY:Bible Study
DESCRIPTION:Bible study begins at 7:00 p.m. with Rev. Karen East Robinson\, in the church parlor.
URL:https://fbcpawtucket.org/event/bible-study-66/
END:VEVENT
BEGIN:VEVENT
DTSTART;TZID=UTC:20240430T190000
DTEND;TZID=UTC:20240430T190000
DTSTAMP:20260426T015430
CREATED:20240423T155125Z
LAST-MODIFIED:20240423T155125Z
UID:7530-1714503600-1714503600@fbcpawtucket.org
SUMMARY:Bible Study
DESCRIPTION:Bible study begins at 7:00 p.m. with Rev. Karen East Robinson\, in the church parlor.
URL:https://fbcpawtucket.org/event/bible-study-67/
END:VEVENT
END:VCALENDAR