BEGIN:VCALENDAR
VERSION:2.0
PRODID:-//First Baptist Church of Pawtucket - ECPv6.15.13//NONSGML v1.0//EN
CALSCALE:GREGORIAN
METHOD:PUBLISH
X-ORIGINAL-URL:https://fbcpawtucket.org
X-WR-CALDESC:Events for First Baptist Church of Pawtucket
REFRESH-INTERVAL;VALUE=DURATION:PT1H
X-Robots-Tag:noindex
X-PUBLISHED-TTL:PT1H
BEGIN:VTIMEZONE
TZID:UTC
BEGIN:STANDARD
TZOFFSETFROM:+0000
TZOFFSETTO:+0000
TZNAME:UTC
DTSTART:20230101T000000
END:STANDARD
END:VTIMEZONE
BEGIN:VEVENT
DTSTART;TZID=UTC:20240303T100000
DTEND;TZID=UTC:20240303T100000
DTSTAMP:20260426T032233
CREATED:20240123T163938Z
LAST-MODIFIED:20240123T163938Z
UID:7470-1709460000-1709460000@fbcpawtucket.org
SUMMARY:Communion Worship Service
DESCRIPTION:FBC & Rev. Karen East Robinson welcomes you to our Communion worship service beginning at 10:00 a.m.  Our parking lot is located at 45 Lyon Street. During our time of worship\, we follow protocols to ensure the health & safety of all in attendance. Come and worship the Lord! A time of fellowship will follow the worship service.
URL:https://fbcpawtucket.org/event/communion-worship-service-9/
END:VEVENT
BEGIN:VEVENT
DTSTART;TZID=UTC:20240305T190000
DTEND;TZID=UTC:20240305T190000
DTSTAMP:20260426T032233
CREATED:20240124T160804Z
LAST-MODIFIED:20240124T160804Z
UID:7503-1709665200-1709665200@fbcpawtucket.org
SUMMARY:Bible Study
DESCRIPTION:Bible study begins at 7:00 p.m. with Rev. Karen East Robinson\, in the church parlor.
URL:https://fbcpawtucket.org/event/bible-study-65/
END:VEVENT
END:VCALENDAR